<PAMDataset>
  <SRS dataAxisToSRSAxisMapping="2,1,3">PROJCS["NAD_1983_StatePlane_Montana_FIPS_2500",GEOGCS["GCS_North_American_1983",DATUM["North_American_Datum_1983",SPHEROID["GRS_1980",6378137,298.257222101]],PRIMEM["Greenwich",0],UNIT["Degree",0.0174532925199432955],AUTHORITY["EPSG","4269"]],PROJECTION["Lambert_Conformal_Conic_2SP"],PARAMETER["False_Easting",600000],PARAMETER["False_Northing",0],PARAMETER["Central_Meridian",-109.5],PARAMETER["Standard_Parallel_1",45],PARAMETER["Standard_Parallel_2",49],PARAMETER["Latitude_Of_Origin",44.25],UNIT["Meter",1]]</SRS>
  <GeoTransform>  7.5050000000000000e+05,  1.0000000000000000e+00,  0.0000000000000000e+00,  2.3559800000000000e+05,  0.0000000000000000e+00, -1.0000000000000000e+00</GeoTransform>
  <Metadata>
    <MDI key="GEOTIFF_CHAR__GeogAngularUnitsGeoKey">Angular_Degree</MDI>
    <MDI key="GEOTIFF_CHAR__GeogLinearUnitsGeoKey">Linear_Meter</MDI>
    <MDI key="GEOTIFF_CHAR__GTModelTypeGeoKey">ModelTypeProjected</MDI>
    <MDI key="GEOTIFF_CHAR__GTRasterTypeGeoKey">RasterPixelIsArea</MDI>
    <MDI key="GEOTIFF_CHAR__ProjectedCSTypeGeoKey">PCS_NAD83_Montana</MDI>
    <MDI key="GEOTIFF_CHAR__ProjLinearUnitsGeoKey">Linear_Meter</MDI>
    <MDI key="GEOTIFF_NUM__1024__GTModelTypeGeoKey">1</MDI>
    <MDI key="GEOTIFF_NUM__1025__GTRasterTypeGeoKey">1</MDI>
    <MDI key="GEOTIFF_NUM__1026__GTCitationGeoKey">IMAGINE GeoTIFF Support
Copyright 1991 - 2001 by ERDAS, Inc. All Rights Reserved
@(#)$RCSfile: egtf.c $ $Revision: 1.11.2.3 $ $Date: 2004/11/24 09:12:56EST $
Projection Name = NAD_1983_StatePlane_Montana_FIPS_2500
Units = meters
GeoTIFF Units = meters</MDI>
    <MDI key="GEOTIFF_NUM__2052__GeogLinearUnitsGeoKey">9001</MDI>
    <MDI key="GEOTIFF_NUM__2054__GeogAngularUnitsGeoKey">9102</MDI>
    <MDI key="GEOTIFF_NUM__3072__ProjectedCSTypeGeoKey">32100</MDI>
    <MDI key="GEOTIFF_NUM__3076__ProjLinearUnitsGeoKey">9001</MDI>
    <MDI key="IMAGE__BITS_PER_SAMPLE">8</MDI>
    <MDI key="IMAGE__COLOR_SCHEME">3</MDI>
    <MDI key="IMAGE__COMPRESSION_BLOCK_SIZE">1024</MDI>
    <MDI key="IMAGE__COMPRESSION_GAMMA">2.000000</MDI>
    <MDI key="IMAGE__COMPRESSION_NLEV">7</MDI>
    <MDI key="IMAGE__COMPRESSION_VERSION">2,0,0</MDI>
    <MDI key="IMAGE__COMPRESSION_WEIGHT">2.000000</MDI>
    <MDI key="IMAGE__CREATION_DATE">Tue Mar 14 15:27:06 2006
</MDI>
    <MDI key="IMAGE__DATA_TYPE">0</MDI>
    <MDI key="IMAGE__DYNAMIC_RANGE_LEVEL">127.500000</MDI>
    <MDI key="IMAGE__DYNAMIC_RANGE_WINDOW">256.000000</MDI>
    <MDI key="IMAGE__HEIGHT">25985</MDI>
    <MDI key="IMAGE__INPUT_FILE_SIZE">1211447675.000000</MDI>
    <MDI key="IMAGE__INPUT_FORMAT">GeoTIFF</MDI>
    <MDI key="IMAGE__INPUT_NAME">\\mslhlnimg001\ddata\Yellowstone\1976\Treasure.tif</MDI>
    <MDI key="IMAGE__TARGET_COMPRESSION_RATIO">14.999999</MDI>
    <MDI key="IMAGE__WIDTH">46605</MDI>
    <MDI key="IMAGE__WKT">PROJCS["NAD83 / Montana",GEOGCS["NAD83",DATUM["North_American_Datum_1983",SPHEROID["GRS 1980",6378137,298.2572221010002,AUTHORITY["EPSG","7019"]],AUTHORITY["EPSG","6269"]],PRIMEM["Greenwich",0],UNIT["degree",0.0174532925199433],AUTHORITY["EPSG","4269"]],PROJECTION["Lambert_Conformal_Conic_2SP"],PARAMETER["standard_parallel_1",49],PARAMETER["standard_parallel_2",45],PARAMETER["latitude_of_origin",44.25],PARAMETER["central_meridian",-109.5],PARAMETER["false_easting",600000],PARAMETER["false_northing",0],UNIT["metre",1,AUTHORITY["EPSG","9001"]],AUTHORITY["EPSG","32100"]]</MDI>
    <MDI key="IMAGE__XY_ORIGIN">750500.500000,235597.500000</MDI>
    <MDI key="IMAGE__X_RESOLUTION">1.000000</MDI>
    <MDI key="IMAGE__Y_RESOLUTION">1.000000</MDI>
    <MDI key="VERSION">MG2</MDI>
  </Metadata>
  <PAMRasterBand band="1">
    <GDALRasterAttributeTable tableType="thematic">
      <FieldDefn index="0">
        <Name>Histogram</Name>
        <Type>0</Type>
        <Usage>1</Usage>
      </FieldDefn>
      <Row index="0">
        <F>435514401</F>
      </Row>
      <Row index="1">
        <F>444738357</F>
      </Row>
      <Row index="2">
        <F>1710639</F>
      </Row>
      <Row index="3">
        <F>1754298</F>
      </Row>
      <Row index="4">
        <F>2008314</F>
      </Row>
      <Row index="5">
        <F>1095444</F>
      </Row>
      <Row index="6">
        <F>444528</F>
      </Row>
      <Row index="7">
        <F>230202</F>
      </Row>
      <Row index="8">
        <F>174636</F>
      </Row>
      <Row index="9">
        <F>138915</F>
      </Row>
      <Row index="10">
        <F>150822</F>
      </Row>
      <Row index="11">
        <F>138915</F>
      </Row>
      <Row index="12">
        <F>111132</F>
      </Row>
      <Row index="13">
        <F>138915</F>
      </Row>
      <Row index="14">
        <F>91287</F>
      </Row>
      <Row index="15">
        <F>83349</F>
      </Row>
      <Row index="16">
        <F>138915</F>
      </Row>
      <Row index="17">
        <F>111132</F>
      </Row>
      <Row index="18">
        <F>103194</F>
      </Row>
      <Row index="19">
        <F>103194</F>
      </Row>
      <Row index="20">
        <F>63504</F>
      </Row>
      <Row index="21">
        <F>87318</F>
      </Row>
      <Row index="22">
        <F>107163</F>
      </Row>
      <Row index="23">
        <F>107163</F>
      </Row>
      <Row index="24">
        <F>67473</F>
      </Row>
      <Row index="25">
        <F>55566</F>
      </Row>
      <Row index="26">
        <F>111132</F>
      </Row>
      <Row index="27">
        <F>99225</F>
      </Row>
      <Row index="28">
        <F>83349</F>
      </Row>
      <Row index="29">
        <F>83349</F>
      </Row>
      <Row index="30">
        <F>47628</F>
      </Row>
      <Row index="31">
        <F>99225</F>
      </Row>
      <Row index="32">
        <F>123039</F>
      </Row>
      <Row index="33">
        <F>71442</F>
      </Row>
      <Row index="34">
        <F>83349</F>
      </Row>
      <Row index="35">
        <F>67473</F>
      </Row>
      <Row index="36">
        <F>75411</F>
      </Row>
      <Row index="37">
        <F>95256</F>
      </Row>
      <Row index="38">
        <F>47628</F>
      </Row>
      <Row index="39">
        <F>75411</F>
      </Row>
      <Row index="40">
        <F>79380</F>
      </Row>
      <Row index="41">
        <F>95256</F>
      </Row>
      <Row index="42">
        <F>63504</F>
      </Row>
      <Row index="43">
        <F>87318</F>
      </Row>
      <Row index="44">
        <F>115101</F>
      </Row>
      <Row index="45">
        <F>75411</F>
      </Row>
      <Row index="46">
        <F>99225</F>
      </Row>
      <Row index="47">
        <F>75411</F>
      </Row>
      <Row index="48">
        <F>75411</F>
      </Row>
      <Row index="49">
        <F>67473</F>
      </Row>
      <Row index="50">
        <F>127008</F>
      </Row>
      <Row index="51">
        <F>67473</F>
      </Row>
      <Row index="52">
        <F>75411</F>
      </Row>
      <Row index="53">
        <F>63504</F>
      </Row>
      <Row index="54">
        <F>142884</F>
      </Row>
      <Row index="55">
        <F>95256</F>
      </Row>
      <Row index="56">
        <F>83349</F>
      </Row>
      <Row index="57">
        <F>107163</F>
      </Row>
      <Row index="58">
        <F>87318</F>
      </Row>
      <Row index="59">
        <F>127008</F>
      </Row>
      <Row index="60">
        <F>87318</F>
      </Row>
      <Row index="61">
        <F>91287</F>
      </Row>
      <Row index="62">
        <F>146853</F>
      </Row>
      <Row index="63">
        <F>146853</F>
      </Row>
      <Row index="64">
        <F>134946</F>
      </Row>
      <Row index="65">
        <F>186543</F>
      </Row>
      <Row index="66">
        <F>130977</F>
      </Row>
      <Row index="67">
        <F>127008</F>
      </Row>
      <Row index="68">
        <F>119070</F>
      </Row>
      <Row index="69">
        <F>158760</F>
      </Row>
      <Row index="70">
        <F>111132</F>
      </Row>
      <Row index="71">
        <F>182574</F>
      </Row>
      <Row index="72">
        <F>218295</F>
      </Row>
      <Row index="73">
        <F>182574</F>
      </Row>
      <Row index="74">
        <F>154791</F>
      </Row>
      <Row index="75">
        <F>182574</F>
      </Row>
      <Row index="76">
        <F>214326</F>
      </Row>
      <Row index="77">
        <F>210357</F>
      </Row>
      <Row index="78">
        <F>226233</F>
      </Row>
      <Row index="79">
        <F>257985</F>
      </Row>
      <Row index="80">
        <F>285768</F>
      </Row>
      <Row index="81">
        <F>250047</F>
      </Row>
      <Row index="82">
        <F>289737</F>
      </Row>
      <Row index="83">
        <F>337365</F>
      </Row>
      <Row index="84">
        <F>345303</F>
      </Row>
      <Row index="85">
        <F>357210</F>
      </Row>
      <Row index="86">
        <F>337365</F>
      </Row>
      <Row index="87">
        <F>349272</F>
      </Row>
      <Row index="88">
        <F>388962</F>
      </Row>
      <Row index="89">
        <F>460404</F>
      </Row>
      <Row index="90">
        <F>468342</F>
      </Row>
      <Row index="91">
        <F>464373</F>
      </Row>
      <Row index="92">
        <F>428652</F>
      </Row>
      <Row index="93">
        <F>456435</F>
      </Row>
      <Row index="94">
        <F>519939</F>
      </Row>
      <Row index="95">
        <F>567567</F>
      </Row>
      <Row index="96">
        <F>635040</F>
      </Row>
      <Row index="97">
        <F>694575</F>
      </Row>
      <Row index="98">
        <F>678699</F>
      </Row>
      <Row index="99">
        <F>654885</F>
      </Row>
      <Row index="100">
        <F>746172</F>
      </Row>
      <Row index="101">
        <F>853335</F>
      </Row>
      <Row index="102">
        <F>869211</F>
      </Row>
      <Row index="103">
        <F>940653</F>
      </Row>
      <Row index="104">
        <F>924777</F>
      </Row>
      <Row index="105">
        <F>1139103</F>
      </Row>
      <Row index="106">
        <F>924777</F>
      </Row>
      <Row index="107">
        <F>920808</F>
      </Row>
      <Row index="108">
        <F>1008126</F>
      </Row>
      <Row index="109">
        <F>1178793</F>
      </Row>
      <Row index="110">
        <F>1210545</F>
      </Row>
      <Row index="111">
        <F>1281987</F>
      </Row>
      <Row index="112">
        <F>1317708</F>
      </Row>
      <Row index="113">
        <F>1393119</F>
      </Row>
      <Row index="114">
        <F>1424871</F>
      </Row>
      <Row index="115">
        <F>1412964</F>
      </Row>
      <Row index="116">
        <F>1174824</F>
      </Row>
      <Row index="117">
        <F>1416933</F>
      </Row>
      <Row index="118">
        <F>1512189</F>
      </Row>
      <Row index="119">
        <F>1456623</F>
      </Row>
      <Row index="120">
        <F>1516158</F>
      </Row>
      <Row index="121">
        <F>1520127</F>
      </Row>
      <Row index="122">
        <F>1674918</F>
      </Row>
      <Row index="123">
        <F>1702701</F>
      </Row>
      <Row index="124">
        <F>1595538</F>
      </Row>
      <Row index="125">
        <F>1722546</F>
      </Row>
      <Row index="126">
        <F>1750329</F>
      </Row>
      <Row index="127">
        <F>1837647</F>
      </Row>
      <Row index="128">
        <F>1956717</F>
      </Row>
      <Row index="129">
        <F>1897182</F>
      </Row>
      <Row index="130">
        <F>1952748</F>
      </Row>
      <Row index="131">
        <F>1932903</F>
      </Row>
      <Row index="132">
        <F>2087694</F>
      </Row>
      <Row index="133">
        <F>2175012</F>
      </Row>
      <Row index="134">
        <F>2008314</F>
      </Row>
      <Row index="135">
        <F>2198826</F>
      </Row>
      <Row index="136">
        <F>2254392</F>
      </Row>
      <Row index="137">
        <F>2167074</F>
      </Row>
      <Row index="138">
        <F>2286144</F>
      </Row>
      <Row index="139">
        <F>2353617</F>
      </Row>
      <Row index="140">
        <F>2290113</F>
      </Row>
      <Row index="141">
        <F>2369493</F>
      </Row>
      <Row index="142">
        <F>2369493</F>
      </Row>
      <Row index="143">
        <F>2389338</F>
      </Row>
      <Row index="144">
        <F>2286144</F>
      </Row>
      <Row index="145">
        <F>2476656</F>
      </Row>
      <Row index="146">
        <F>2480625</F>
      </Row>
      <Row index="147">
        <F>2440935</F>
      </Row>
      <Row index="148">
        <F>2631447</F>
      </Row>
      <Row index="149">
        <F>2821959</F>
      </Row>
      <Row index="150">
        <F>2452842</F>
      </Row>
      <Row index="151">
        <F>2595726</F>
      </Row>
      <Row index="152">
        <F>2730672</F>
      </Row>
      <Row index="153">
        <F>2766393</F>
      </Row>
      <Row index="154">
        <F>2611602</F>
      </Row>
      <Row index="155">
        <F>2750517</F>
      </Row>
      <Row index="156">
        <F>2579850</F>
      </Row>
      <Row index="157">
        <F>2762424</F>
      </Row>
      <Row index="158">
        <F>2869587</F>
      </Row>
      <Row index="159">
        <F>2734641</F>
      </Row>
      <Row index="160">
        <F>2786238</F>
      </Row>
      <Row index="161">
        <F>2861649</F>
      </Row>
      <Row index="162">
        <F>2829897</F>
      </Row>
      <Row index="163">
        <F>2984688</F>
      </Row>
      <Row index="164">
        <F>3068037</F>
      </Row>
      <Row index="165">
        <F>2766393</F>
      </Row>
      <Row index="166">
        <F>2782269</F>
      </Row>
      <Row index="167">
        <F>2742579</F>
      </Row>
      <Row index="168">
        <F>2956905</F>
      </Row>
      <Row index="169">
        <F>2968812</F>
      </Row>
      <Row index="170">
        <F>2960874</F>
      </Row>
      <Row index="171">
        <F>3075975</F>
      </Row>
      <Row index="172">
        <F>2869587</F>
      </Row>
      <Row index="173">
        <F>3004533</F>
      </Row>
      <Row index="174">
        <F>3036285</F>
      </Row>
      <Row index="175">
        <F>2893401</F>
      </Row>
      <Row index="176">
        <F>3131541</F>
      </Row>
      <Row index="177">
        <F>2865618</F>
      </Row>
      <Row index="178">
        <F>3056130</F>
      </Row>
      <Row index="179">
        <F>2905308</F>
      </Row>
      <Row index="180">
        <F>2766393</F>
      </Row>
      <Row index="181">
        <F>3087882</F>
      </Row>
      <Row index="182">
        <F>2766393</F>
      </Row>
      <Row index="183">
        <F>2833866</F>
      </Row>
      <Row index="184">
        <F>2960874</F>
      </Row>
      <Row index="185">
        <F>2976750</F>
      </Row>
      <Row index="186">
        <F>2837835</F>
      </Row>
      <Row index="187">
        <F>2730672</F>
      </Row>
      <Row index="188">
        <F>2683044</F>
      </Row>
      <Row index="189">
        <F>2563974</F>
      </Row>
      <Row index="190">
        <F>2631447</F>
      </Row>
      <Row index="191">
        <F>2544129</F>
      </Row>
      <Row index="192">
        <F>2540160</F>
      </Row>
      <Row index="193">
        <F>2421090</F>
      </Row>
      <Row index="194">
        <F>2333772</F>
      </Row>
      <Row index="195">
        <F>2389338</F>
      </Row>
      <Row index="196">
        <F>2492532</F>
      </Row>
      <Row index="197">
        <F>2214702</F>
      </Row>
      <Row index="198">
        <F>2278206</F>
      </Row>
      <Row index="199">
        <F>2008314</F>
      </Row>
      <Row index="200">
        <F>2194857</F>
      </Row>
      <Row index="201">
        <F>1988469</F>
      </Row>
      <Row index="202">
        <F>2163105</F>
      </Row>
      <Row index="203">
        <F>1869399</F>
      </Row>
      <Row index="204">
        <F>2016252</F>
      </Row>
      <Row index="205">
        <F>1861461</F>
      </Row>
      <Row index="206">
        <F>1782081</F>
      </Row>
      <Row index="207">
        <F>1909089</F>
      </Row>
      <Row index="208">
        <F>1607445</F>
      </Row>
      <Row index="209">
        <F>1571724</F>
      </Row>
      <Row index="210">
        <F>1615383</F>
      </Row>
      <Row index="211">
        <F>1464561</F>
      </Row>
      <Row index="212">
        <F>1377243</F>
      </Row>
      <Row index="213">
        <F>1468530</F>
      </Row>
      <Row index="214">
        <F>1373274</F>
      </Row>
      <Row index="215">
        <F>1258173</F>
      </Row>
      <Row index="216">
        <F>1202607</F>
      </Row>
      <Row index="217">
        <F>1151010</F>
      </Row>
      <Row index="218">
        <F>1107351</F>
      </Row>
      <Row index="219">
        <F>1194669</F>
      </Row>
      <Row index="220">
        <F>1083537</F>
      </Row>
      <Row index="221">
        <F>1047816</F>
      </Row>
      <Row index="222">
        <F>952560</F>
      </Row>
      <Row index="223">
        <F>908901</F>
      </Row>
      <Row index="224">
        <F>853335</F>
      </Row>
      <Row index="225">
        <F>885087</F>
      </Row>
      <Row index="226">
        <F>734265</F>
      </Row>
      <Row index="227">
        <F>785862</F>
      </Row>
      <Row index="228">
        <F>670761</F>
      </Row>
      <Row index="229">
        <F>639009</F>
      </Row>
      <Row index="230">
        <F>619164</F>
      </Row>
      <Row index="231">
        <F>646947</F>
      </Row>
      <Row index="232">
        <F>496125</F>
      </Row>
      <Row index="233">
        <F>579474</F>
      </Row>
      <Row index="234">
        <F>496125</F>
      </Row>
      <Row index="235">
        <F>468342</F>
      </Row>
      <Row index="236">
        <F>464373</F>
      </Row>
      <Row index="237">
        <F>452466</F>
      </Row>
      <Row index="238">
        <F>496125</F>
      </Row>
      <Row index="239">
        <F>349272</F>
      </Row>
      <Row index="240">
        <F>392931</F>
      </Row>
      <Row index="241">
        <F>325458</F>
      </Row>
      <Row index="242">
        <F>293706</F>
      </Row>
      <Row index="243">
        <F>194481</F>
      </Row>
      <Row index="244">
        <F>242109</F>
      </Row>
      <Row index="245">
        <F>206388</F>
      </Row>
      <Row index="246">
        <F>214326</F>
      </Row>
      <Row index="247">
        <F>166698</F>
      </Row>
      <Row index="248">
        <F>214326</F>
      </Row>
      <Row index="249">
        <F>206388</F>
      </Row>
      <Row index="250">
        <F>162729</F>
      </Row>
      <Row index="251">
        <F>146853</F>
      </Row>
      <Row index="252">
        <F>123039</F>
      </Row>
      <Row index="253">
        <F>107163</F>
      </Row>
      <Row index="254">
        <F>87318</F>
      </Row>
      <Row index="255">
        <F>325458</F>
      </Row>
    </GDALRasterAttributeTable>
    <Metadata>
      <MDI key="LAYER_TYPE">athematic</MDI>
      <MDI key="STATISTICS_APPROXIMATE">YES</MDI>
      <MDI key="STATISTICS_HISTOBINVALUES">435514401|444738357|1710639|1754298|2008314|1095444|444528|230202|174636|138915|150822|138915|111132|138915|91287|83349|138915|111132|103194|103194|63504|87318|107163|107163|67473|55566|111132|99225|83349|83349|47628|99225|123039|71442|83349|67473|75411|95256|47628|75411|79380|95256|63504|87318|115101|75411|99225|75411|75411|67473|127008|67473|75411|63504|142884|95256|83349|107163|87318|127008|87318|91287|146853|146853|134946|186543|130977|127008|119070|158760|111132|182574|218295|182574|154791|182574|214326|210357|226233|257985|285768|250047|289737|337365|345303|357210|337365|349272|388962|460404|468342|464373|428652|456435|519939|567567|635040|694575|678699|654885|746172|853335|869211|940653|924777|1139103|924777|920808|1008126|1178793|1210545|1281987|1317708|1393119|1424871|1412964|1174824|1416933|1512189|1456623|1516158|1520127|1674918|1702701|1595538|1722546|1750329|1837647|1956717|1897182|1952748|1932903|2087694|2175012|2008314|2198826|2254392|2167074|2286144|2353617|2290113|2369493|2369493|2389338|2286144|2476656|2480625|2440935|2631447|2821959|2452842|2595726|2730672|2766393|2611602|2750517|2579850|2762424|2869587|2734641|2786238|2861649|2829897|2984688|3068037|2766393|2782269|2742579|2956905|2968812|2960874|3075975|2869587|3004533|3036285|2893401|3131541|2865618|3056130|2905308|2766393|3087882|2766393|2833866|2960874|2976750|2837835|2730672|2683044|2563974|2631447|2544129|2540160|2421090|2333772|2389338|2492532|2214702|2278206|2008314|2194857|1988469|2163105|1869399|2016252|1861461|1782081|1909089|1607445|1571724|1615383|1464561|1377243|1468530|1373274|1258173|1202607|1151010|1107351|1194669|1083537|1047816|952560|908901|853335|885087|734265|785862|670761|639009|619164|646947|496125|579474|496125|468342|464373|452466|496125|349272|392931|325458|293706|194481|242109|206388|214326|166698|214326|206388|162729|146853|123039|107163|87318|325458|</MDI>
      <MDI key="STATISTICS_MAXIMUM">255</MDI>
      <MDI key="STATISTICS_MEAN">39.586892291163</MDI>
      <MDI key="STATISTICS_MINIMUM">0</MDI>
      <MDI key="STATISTICS_STDDEV">71.384388160467</MDI>
      <MDI key="STATISTICS_VALID_PERCENT">100</MDI>
    </Metadata>
  </PAMRasterBand>
</PAMDataset>
