<PAMDataset>
  <SRS dataAxisToSRSAxisMapping="2,1,3">PROJCS["NAD_1983_StatePlane_Montana_FIPS_2500",GEOGCS["GCS_North_American_1983",DATUM["North_American_Datum_1983",SPHEROID["GRS_1980",6378137,298.257222101]],PRIMEM["Greenwich",0],UNIT["Degree",0.0174532925199432955],AUTHORITY["EPSG","4269"]],PROJECTION["Lambert_Conformal_Conic_2SP"],PARAMETER["False_Easting",600000],PARAMETER["False_Northing",0],PARAMETER["Central_Meridian",-109.5],PARAMETER["Standard_Parallel_1",45],PARAMETER["Standard_Parallel_2",49],PARAMETER["Latitude_Of_Origin",44.25],UNIT["Meter",1]]</SRS>
  <GeoTransform>  6.5140000000000000e+05,  4.5537100000000003e-01,  0.0000000000000000e+00,  1.6632610493517440e+05,  0.0000000000000000e+00, -4.5537100000000003e-01</GeoTransform>
  <Metadata>
    <MDI key="GEOTIFF_CHAR__GeogAngularUnitsGeoKey">Linear_Meter</MDI>
    <MDI key="GEOTIFF_CHAR__GeogLinearUnitsGeoKey">Linear_Meter</MDI>
    <MDI key="GEOTIFF_CHAR__GeographicTypeGeoKey">Unknown-65535</MDI>
    <MDI key="GEOTIFF_CHAR__GTModelTypeGeoKey">ModelTypeProjected</MDI>
    <MDI key="GEOTIFF_CHAR__GTRasterTypeGeoKey">RasterPixelIsArea</MDI>
    <MDI key="GEOTIFF_CHAR__ProjCoordTransGeoKey">User-Defined</MDI>
    <MDI key="GEOTIFF_CHAR__ProjLinearUnitsGeoKey">Linear_Meter</MDI>
    <MDI key="GEOTIFF_NUM__1024__GTModelTypeGeoKey">1</MDI>
    <MDI key="GEOTIFF_NUM__1025__GTRasterTypeGeoKey">1</MDI>
    <MDI key="GEOTIFF_NUM__1026__GTCitationGeoKey">IMAGINE GeoTIFF Support
Copyright 1991 - 2001 by ERDAS, Inc. All Rights Reserved
@(#)$RCSfile: egtf.c $ $Revision: 1.11.2.3 $ $Date: 2004/11/24 09:12:56EST $
Projection Name = NAD_1983_StatePlane_Montana_FIPS_2500
Units = meters
GeoTIFF Units = meters</MDI>
    <MDI key="GEOTIFF_NUM__2048__GeographicTypeGeoKey">65535</MDI>
    <MDI key="GEOTIFF_NUM__2052__GeogLinearUnitsGeoKey">9001</MDI>
    <MDI key="GEOTIFF_NUM__2054__GeogAngularUnitsGeoKey">9001</MDI>
    <MDI key="GEOTIFF_NUM__3075__ProjCoordTransGeoKey">32767</MDI>
    <MDI key="GEOTIFF_NUM__3076__ProjLinearUnitsGeoKey">9001</MDI>
    <MDI key="IMAGE__BITS_PER_SAMPLE">8</MDI>
    <MDI key="IMAGE__COLOR_SCHEME">3</MDI>
    <MDI key="IMAGE__COMPRESSION_BLOCK_SIZE">1024</MDI>
    <MDI key="IMAGE__COMPRESSION_GAMMA">2.000000</MDI>
    <MDI key="IMAGE__COMPRESSION_NLEV">8</MDI>
    <MDI key="IMAGE__COMPRESSION_VERSION">2,0,0</MDI>
    <MDI key="IMAGE__COMPRESSION_WEIGHT">2.000000</MDI>
    <MDI key="IMAGE__CREATION_DATE">Tue Mar 14 15:50:43 2006
</MDI>
    <MDI key="IMAGE__DATA_TYPE">0</MDI>
    <MDI key="IMAGE__DYNAMIC_RANGE_LEVEL">127.500000</MDI>
    <MDI key="IMAGE__DYNAMIC_RANGE_WINDOW">256.000000</MDI>
    <MDI key="IMAGE__HEIGHT">35708</MDI>
    <MDI key="IMAGE__INPUT_FILE_SIZE">1791542773.000000</MDI>
    <MDI key="IMAGE__INPUT_FORMAT">GeoTIFF</MDI>
    <MDI key="IMAGE__INPUT_NAME">\\mslhlnimg001\ddata\Yellowstone\1976\Yellowstone1.tif</MDI>
    <MDI key="IMAGE__TARGET_COMPRESSION_RATIO">14.999999</MDI>
    <MDI key="IMAGE__WIDTH">50156</MDI>
    <MDI key="IMAGE__WKT">PROJCS["unnamed",GEOGCS["unnamed",DATUM["unknown",SPHEROID["unretrievable - using WGS84",6378137,298.257223563]],PRIMEM["Greenwich",0],UNIT["metre",1],AUTHORITY["EPSG","-1"]],UNIT["metre",1,AUTHORITY["EPSG","9001"]]]</MDI>
    <MDI key="IMAGE__XY_ORIGIN">651400.227686,166325.877250</MDI>
    <MDI key="IMAGE__X_RESOLUTION">0.455371</MDI>
    <MDI key="IMAGE__Y_RESOLUTION">0.455371</MDI>
    <MDI key="VERSION">MG2</MDI>
  </Metadata>
  <PAMRasterBand band="1">
    <GDALRasterAttributeTable tableType="thematic">
      <FieldDefn index="0">
        <Name>Histogram</Name>
        <Type>0</Type>
        <Usage>1</Usage>
      </FieldDefn>
      <Row index="0">
        <F>563149503</F>
      </Row>
      <Row index="1">
        <F>573091848</F>
      </Row>
      <Row index="2">
        <F>2135322</F>
      </Row>
      <Row index="3">
        <F>2048004</F>
      </Row>
      <Row index="4">
        <F>1845585</F>
      </Row>
      <Row index="5">
        <F>1250235</F>
      </Row>
      <Row index="6">
        <F>829521</F>
      </Row>
      <Row index="7">
        <F>603288</F>
      </Row>
      <Row index="8">
        <F>377055</F>
      </Row>
      <Row index="9">
        <F>281799</F>
      </Row>
      <Row index="10">
        <F>218295</F>
      </Row>
      <Row index="11">
        <F>170667</F>
      </Row>
      <Row index="12">
        <F>234171</F>
      </Row>
      <Row index="13">
        <F>226233</F>
      </Row>
      <Row index="14">
        <F>202419</F>
      </Row>
      <Row index="15">
        <F>162729</F>
      </Row>
      <Row index="16">
        <F>190512</F>
      </Row>
      <Row index="17">
        <F>226233</F>
      </Row>
      <Row index="18">
        <F>190512</F>
      </Row>
      <Row index="19">
        <F>273861</F>
      </Row>
      <Row index="20">
        <F>190512</F>
      </Row>
      <Row index="21">
        <F>265923</F>
      </Row>
      <Row index="22">
        <F>158760</F>
      </Row>
      <Row index="23">
        <F>246078</F>
      </Row>
      <Row index="24">
        <F>174636</F>
      </Row>
      <Row index="25">
        <F>154791</F>
      </Row>
      <Row index="26">
        <F>186543</F>
      </Row>
      <Row index="27">
        <F>202419</F>
      </Row>
      <Row index="28">
        <F>198450</F>
      </Row>
      <Row index="29">
        <F>150822</F>
      </Row>
      <Row index="30">
        <F>190512</F>
      </Row>
      <Row index="31">
        <F>162729</F>
      </Row>
      <Row index="32">
        <F>130977</F>
      </Row>
      <Row index="33">
        <F>178605</F>
      </Row>
      <Row index="34">
        <F>198450</F>
      </Row>
      <Row index="35">
        <F>226233</F>
      </Row>
      <Row index="36">
        <F>146853</F>
      </Row>
      <Row index="37">
        <F>222264</F>
      </Row>
      <Row index="38">
        <F>269892</F>
      </Row>
      <Row index="39">
        <F>230202</F>
      </Row>
      <Row index="40">
        <F>254016</F>
      </Row>
      <Row index="41">
        <F>254016</F>
      </Row>
      <Row index="42">
        <F>301644</F>
      </Row>
      <Row index="43">
        <F>277830</F>
      </Row>
      <Row index="44">
        <F>242109</F>
      </Row>
      <Row index="45">
        <F>273861</F>
      </Row>
      <Row index="46">
        <F>345303</F>
      </Row>
      <Row index="47">
        <F>297675</F>
      </Row>
      <Row index="48">
        <F>277830</F>
      </Row>
      <Row index="49">
        <F>301644</F>
      </Row>
      <Row index="50">
        <F>337365</F>
      </Row>
      <Row index="51">
        <F>408807</F>
      </Row>
      <Row index="52">
        <F>353241</F>
      </Row>
      <Row index="53">
        <F>341334</F>
      </Row>
      <Row index="54">
        <F>404838</F>
      </Row>
      <Row index="55">
        <F>480249</F>
      </Row>
      <Row index="56">
        <F>424683</F>
      </Row>
      <Row index="57">
        <F>369117</F>
      </Row>
      <Row index="58">
        <F>476280</F>
      </Row>
      <Row index="59">
        <F>452466</F>
      </Row>
      <Row index="60">
        <F>472311</F>
      </Row>
      <Row index="61">
        <F>508032</F>
      </Row>
      <Row index="62">
        <F>519939</F>
      </Row>
      <Row index="63">
        <F>579474</F>
      </Row>
      <Row index="64">
        <F>460404</F>
      </Row>
      <Row index="65">
        <F>579474</F>
      </Row>
      <Row index="66">
        <F>611226</F>
      </Row>
      <Row index="67">
        <F>642978</F>
      </Row>
      <Row index="68">
        <F>722358</F>
      </Row>
      <Row index="69">
        <F>642978</F>
      </Row>
      <Row index="70">
        <F>642978</F>
      </Row>
      <Row index="71">
        <F>777924</F>
      </Row>
      <Row index="72">
        <F>809676</F>
      </Row>
      <Row index="73">
        <F>900963</F>
      </Row>
      <Row index="74">
        <F>849366</F>
      </Row>
      <Row index="75">
        <F>766017</F>
      </Row>
      <Row index="76">
        <F>857304</F>
      </Row>
      <Row index="77">
        <F>952560</F>
      </Row>
      <Row index="78">
        <F>976374</F>
      </Row>
      <Row index="79">
        <F>1063692</F>
      </Row>
      <Row index="80">
        <F>1039878</F>
      </Row>
      <Row index="81">
        <F>1016064</F>
      </Row>
      <Row index="82">
        <F>1043847</F>
      </Row>
      <Row index="83">
        <F>1305801</F>
      </Row>
      <Row index="84">
        <F>1067661</F>
      </Row>
      <Row index="85">
        <F>1262142</F>
      </Row>
      <Row index="86">
        <F>1246266</F>
      </Row>
      <Row index="87">
        <F>1385181</F>
      </Row>
      <Row index="88">
        <F>1603476</F>
      </Row>
      <Row index="89">
        <F>1440747</F>
      </Row>
      <Row index="90">
        <F>1460592</F>
      </Row>
      <Row index="91">
        <F>1829709</F>
      </Row>
      <Row index="92">
        <F>1659042</F>
      </Row>
      <Row index="93">
        <F>1821771</F>
      </Row>
      <Row index="94">
        <F>1801926</F>
      </Row>
      <Row index="95">
        <F>1897182</F>
      </Row>
      <Row index="96">
        <F>1849554</F>
      </Row>
      <Row index="97">
        <F>1944810</F>
      </Row>
      <Row index="98">
        <F>2155167</F>
      </Row>
      <Row index="99">
        <F>2040066</F>
      </Row>
      <Row index="100">
        <F>2186919</F>
      </Row>
      <Row index="101">
        <F>2000376</F>
      </Row>
      <Row index="102">
        <F>2127384</F>
      </Row>
      <Row index="103">
        <F>2218671</F>
      </Row>
      <Row index="104">
        <F>2333772</F>
      </Row>
      <Row index="105">
        <F>2290113</F>
      </Row>
      <Row index="106">
        <F>2377431</F>
      </Row>
      <Row index="107">
        <F>2496501</F>
      </Row>
      <Row index="108">
        <F>2560005</F>
      </Row>
      <Row index="109">
        <F>2587788</F>
      </Row>
      <Row index="110">
        <F>2663199</F>
      </Row>
      <Row index="111">
        <F>2849742</F>
      </Row>
      <Row index="112">
        <F>2992626</F>
      </Row>
      <Row index="113">
        <F>2885463</F>
      </Row>
      <Row index="114">
        <F>2893401</F>
      </Row>
      <Row index="115">
        <F>2964843</F>
      </Row>
      <Row index="116">
        <F>2996595</F>
      </Row>
      <Row index="117">
        <F>3103758</F>
      </Row>
      <Row index="118">
        <F>3326022</F>
      </Row>
      <Row index="119">
        <F>3385557</F>
      </Row>
      <Row index="120">
        <F>3401433</F>
      </Row>
      <Row index="121">
        <F>3746736</F>
      </Row>
      <Row index="122">
        <F>3607821</F>
      </Row>
      <Row index="123">
        <F>3766581</F>
      </Row>
      <Row index="124">
        <F>3532410</F>
      </Row>
      <Row index="125">
        <F>4020597</F>
      </Row>
      <Row index="126">
        <F>3957093</F>
      </Row>
      <Row index="127">
        <F>4270644</F>
      </Row>
      <Row index="128">
        <F>4020597</F>
      </Row>
      <Row index="129">
        <F>4262706</F>
      </Row>
      <Row index="130">
        <F>4254768</F>
      </Row>
      <Row index="131">
        <F>4540536</F>
      </Row>
      <Row index="132">
        <F>4413528</F>
      </Row>
      <Row index="133">
        <F>4437342</F>
      </Row>
      <Row index="134">
        <F>4639761</F>
      </Row>
      <Row index="135">
        <F>4985064</F>
      </Row>
      <Row index="136">
        <F>4711203</F>
      </Row>
      <Row index="137">
        <F>4996971</F>
      </Row>
      <Row index="138">
        <F>4691358</F>
      </Row>
      <Row index="139">
        <F>4786614</F>
      </Row>
      <Row index="140">
        <F>4945374</F>
      </Row>
      <Row index="141">
        <F>5052537</F>
      </Row>
      <Row index="142">
        <F>4981095</F>
      </Row>
      <Row index="143">
        <F>5108103</F>
      </Row>
      <Row index="144">
        <F>5183514</F>
      </Row>
      <Row index="145">
        <F>5318460</F>
      </Row>
      <Row index="146">
        <F>5286708</F>
      </Row>
      <Row index="147">
        <F>5469282</F>
      </Row>
      <Row index="148">
        <F>5290677</F>
      </Row>
      <Row index="149">
        <F>5318460</F>
      </Row>
      <Row index="150">
        <F>5679639</F>
      </Row>
      <Row index="151">
        <F>5425623</F>
      </Row>
      <Row index="152">
        <F>5425623</F>
      </Row>
      <Row index="153">
        <F>5175576</F>
      </Row>
      <Row index="154">
        <F>5286708</F>
      </Row>
      <Row index="155">
        <F>5262894</F>
      </Row>
      <Row index="156">
        <F>5377995</F>
      </Row>
      <Row index="157">
        <F>4834242</F>
      </Row>
      <Row index="158">
        <F>5108103</F>
      </Row>
      <Row index="159">
        <F>5147793</F>
      </Row>
      <Row index="160">
        <F>5175576</F>
      </Row>
      <Row index="161">
        <F>5092227</F>
      </Row>
      <Row index="162">
        <F>5354181</F>
      </Row>
      <Row index="163">
        <F>4929498</F>
      </Row>
      <Row index="164">
        <F>5199390</F>
      </Row>
      <Row index="165">
        <F>5338305</F>
      </Row>
      <Row index="166">
        <F>5429592</F>
      </Row>
      <Row index="167">
        <F>5258925</F>
      </Row>
      <Row index="168">
        <F>5235111</F>
      </Row>
      <Row index="169">
        <F>4806459</F>
      </Row>
      <Row index="170">
        <F>5080320</F>
      </Row>
      <Row index="171">
        <F>4786614</F>
      </Row>
      <Row index="172">
        <F>4957281</F>
      </Row>
      <Row index="173">
        <F>4774707</F>
      </Row>
      <Row index="174">
        <F>4611978</F>
      </Row>
      <Row index="175">
        <F>4854087</F>
      </Row>
      <Row index="176">
        <F>4655637</F>
      </Row>
      <Row index="177">
        <F>4715172</F>
      </Row>
      <Row index="178">
        <F>4782645</F>
      </Row>
      <Row index="179">
        <F>4802490</F>
      </Row>
      <Row index="180">
        <F>4675482</F>
      </Row>
      <Row index="181">
        <F>4790583</F>
      </Row>
      <Row index="182">
        <F>4393683</F>
      </Row>
      <Row index="183">
        <F>4350024</F>
      </Row>
      <Row index="184">
        <F>4302396</F>
      </Row>
      <Row index="185">
        <F>4262706</F>
      </Row>
      <Row index="186">
        <F>4429404</F>
      </Row>
      <Row index="187">
        <F>4238892</F>
      </Row>
      <Row index="188">
        <F>4659606</F>
      </Row>
      <Row index="189">
        <F>4580226</F>
      </Row>
      <Row index="190">
        <F>4282551</F>
      </Row>
      <Row index="191">
        <F>4334148</F>
      </Row>
      <Row index="192">
        <F>4127760</F>
      </Row>
      <Row index="193">
        <F>4024566</F>
      </Row>
      <Row index="194">
        <F>3905496</F>
      </Row>
      <Row index="195">
        <F>4036473</F>
      </Row>
      <Row index="196">
        <F>3818178</F>
      </Row>
      <Row index="197">
        <F>3540348</F>
      </Row>
      <Row index="198">
        <F>3401433</F>
      </Row>
      <Row index="199">
        <F>3516534</F>
      </Row>
      <Row index="200">
        <F>3484782</F>
      </Row>
      <Row index="201">
        <F>3048192</F>
      </Row>
      <Row index="202">
        <F>3107727</F>
      </Row>
      <Row index="203">
        <F>2956905</F>
      </Row>
      <Row index="204">
        <F>3127572</F>
      </Row>
      <Row index="205">
        <F>2766393</F>
      </Row>
      <Row index="206">
        <F>2782269</F>
      </Row>
      <Row index="207">
        <F>2893401</F>
      </Row>
      <Row index="208">
        <F>2929122</F>
      </Row>
      <Row index="209">
        <F>2742579</F>
      </Row>
      <Row index="210">
        <F>2298051</F>
      </Row>
      <Row index="211">
        <F>2345679</F>
      </Row>
      <Row index="212">
        <F>2266299</F>
      </Row>
      <Row index="213">
        <F>2389338</F>
      </Row>
      <Row index="214">
        <F>2194857</F>
      </Row>
      <Row index="215">
        <F>1924965</F>
      </Row>
      <Row index="216">
        <F>1924965</F>
      </Row>
      <Row index="217">
        <F>1917027</F>
      </Row>
      <Row index="218">
        <F>1861461</F>
      </Row>
      <Row index="219">
        <F>1742391</F>
      </Row>
      <Row index="220">
        <F>1615383</F>
      </Row>
      <Row index="221">
        <F>1563786</F>
      </Row>
      <Row index="222">
        <F>1591569</F>
      </Row>
      <Row index="223">
        <F>1385181</F>
      </Row>
      <Row index="224">
        <F>1536003</F>
      </Row>
      <Row index="225">
        <F>1500282</F>
      </Row>
      <Row index="226">
        <F>1420902</F>
      </Row>
      <Row index="227">
        <F>1337553</F>
      </Row>
      <Row index="228">
        <F>1329615</F>
      </Row>
      <Row index="229">
        <F>1198638</F>
      </Row>
      <Row index="230">
        <F>1270080</F>
      </Row>
      <Row index="231">
        <F>1087506</F>
      </Row>
      <Row index="232">
        <F>1095444</F>
      </Row>
      <Row index="233">
        <F>1210545</F>
      </Row>
      <Row index="234">
        <F>1198638</F>
      </Row>
      <Row index="235">
        <F>1246266</F>
      </Row>
      <Row index="236">
        <F>1091475</F>
      </Row>
      <Row index="237">
        <F>1115289</F>
      </Row>
      <Row index="238">
        <F>1131165</F>
      </Row>
      <Row index="239">
        <F>1162917</F>
      </Row>
      <Row index="240">
        <F>1151010</F>
      </Row>
      <Row index="241">
        <F>1095444</F>
      </Row>
      <Row index="242">
        <F>1214514</F>
      </Row>
      <Row index="243">
        <F>1103382</F>
      </Row>
      <Row index="244">
        <F>1349460</F>
      </Row>
      <Row index="245">
        <F>1329615</F>
      </Row>
      <Row index="246">
        <F>1289925</F>
      </Row>
      <Row index="247">
        <F>1373274</F>
      </Row>
      <Row index="248">
        <F>1274049</F>
      </Row>
      <Row index="249">
        <F>1516158</F>
      </Row>
      <Row index="250">
        <F>1631259</F>
      </Row>
      <Row index="251">
        <F>1905120</F>
      </Row>
      <Row index="252">
        <F>1845585</F>
      </Row>
      <Row index="253">
        <F>2147229</F>
      </Row>
      <Row index="254">
        <F>2663199</F>
      </Row>
      <Row index="255">
        <F>6497253</F>
      </Row>
    </GDALRasterAttributeTable>
    <Metadata>
      <MDI key="LAYER_TYPE">athematic</MDI>
      <MDI key="STATISTICS_APPROXIMATE">YES</MDI>
      <MDI key="STATISTICS_HISTOBINVALUES">563149503|573091848|2135322|2048004|1845585|1250235|829521|603288|377055|281799|218295|170667|234171|226233|202419|162729|190512|226233|190512|273861|190512|265923|158760|246078|174636|154791|186543|202419|198450|150822|190512|162729|130977|178605|198450|226233|146853|222264|269892|230202|254016|254016|301644|277830|242109|273861|345303|297675|277830|301644|337365|408807|353241|341334|404838|480249|424683|369117|476280|452466|472311|508032|519939|579474|460404|579474|611226|642978|722358|642978|642978|777924|809676|900963|849366|766017|857304|952560|976374|1063692|1039878|1016064|1043847|1305801|1067661|1262142|1246266|1385181|1603476|1440747|1460592|1829709|1659042|1821771|1801926|1897182|1849554|1944810|2155167|2040066|2186919|2000376|2127384|2218671|2333772|2290113|2377431|2496501|2560005|2587788|2663199|2849742|2992626|2885463|2893401|2964843|2996595|3103758|3326022|3385557|3401433|3746736|3607821|3766581|3532410|4020597|3957093|4270644|4020597|4262706|4254768|4540536|4413528|4437342|4639761|4985064|4711203|4996971|4691358|4786614|4945374|5052537|4981095|5108103|5183514|5318460|5286708|5469282|5290677|5318460|5679639|5425623|5425623|5175576|5286708|5262894|5377995|4834242|5108103|5147793|5175576|5092227|5354181|4929498|5199390|5338305|5429592|5258925|5235111|4806459|5080320|4786614|4957281|4774707|4611978|4854087|4655637|4715172|4782645|4802490|4675482|4790583|4393683|4350024|4302396|4262706|4429404|4238892|4659606|4580226|4282551|4334148|4127760|4024566|3905496|4036473|3818178|3540348|3401433|3516534|3484782|3048192|3107727|2956905|3127572|2766393|2782269|2893401|2929122|2742579|2298051|2345679|2266299|2389338|2194857|1924965|1924965|1917027|1861461|1742391|1615383|1563786|1591569|1385181|1536003|1500282|1420902|1337553|1329615|1198638|1270080|1087506|1095444|1210545|1198638|1246266|1091475|1115289|1131165|1162917|1151010|1095444|1214514|1103382|1349460|1329615|1289925|1373274|1274049|1516158|1631259|1905120|1845585|2147229|2663199|6497253|</MDI>
      <MDI key="STATISTICS_MAXIMUM">255</MDI>
      <MDI key="STATISTICS_MEAN">53.521647230321</MDI>
      <MDI key="STATISTICS_MINIMUM">0</MDI>
      <MDI key="STATISTICS_STDDEV">77.243709383154</MDI>
      <MDI key="STATISTICS_VALID_PERCENT">100</MDI>
    </Metadata>
  </PAMRasterBand>
</PAMDataset>
