<PAMDataset>
  <SRS dataAxisToSRSAxisMapping="2,1,3">PROJCS["NAD_1983_StatePlane_Montana_FIPS_2500",GEOGCS["GCS_North_American_1983",DATUM["North_American_Datum_1983",SPHEROID["GRS_1980",6378137,298.257222101]],PRIMEM["Greenwich",0],UNIT["Degree",0.0174532925199432955],AUTHORITY["EPSG","4269"]],PROJECTION["Lambert_Conformal_Conic_2SP"],PARAMETER["False_Easting",600000],PARAMETER["False_Northing",0],PARAMETER["Central_Meridian",-109.5],PARAMETER["Standard_Parallel_1",45],PARAMETER["Standard_Parallel_2",49],PARAMETER["Latitude_Of_Origin",44.25],UNIT["Meter",1]]</SRS>
  <GeoTransform>  6.7035205070607027e+05,  4.7298499999999999e-01,  0.0000000000000000e+00,  1.7752421544520537e+05,  0.0000000000000000e+00, -4.7298499999999999e-01</GeoTransform>
  <Metadata>
    <MDI key="GEOTIFF_CHAR__GeogAngularUnitsGeoKey">Linear_Meter</MDI>
    <MDI key="GEOTIFF_CHAR__GeogLinearUnitsGeoKey">Linear_Meter</MDI>
    <MDI key="GEOTIFF_CHAR__GeographicTypeGeoKey">Unknown-65535</MDI>
    <MDI key="GEOTIFF_CHAR__GTModelTypeGeoKey">ModelTypeProjected</MDI>
    <MDI key="GEOTIFF_CHAR__GTRasterTypeGeoKey">RasterPixelIsArea</MDI>
    <MDI key="GEOTIFF_CHAR__ProjCoordTransGeoKey">User-Defined</MDI>
    <MDI key="GEOTIFF_CHAR__ProjLinearUnitsGeoKey">Linear_Meter</MDI>
    <MDI key="GEOTIFF_NUM__1024__GTModelTypeGeoKey">1</MDI>
    <MDI key="GEOTIFF_NUM__1025__GTRasterTypeGeoKey">1</MDI>
    <MDI key="GEOTIFF_NUM__1026__GTCitationGeoKey">IMAGINE GeoTIFF Support
Copyright 1991 - 2001 by ERDAS, Inc. All Rights Reserved
@(#)$RCSfile: egtf.c $ $Revision: 1.11.2.3 $ $Date: 2004/11/24 09:12:56EST $
Projection Name = NAD_1983_StatePlane_Montana_FIPS_2500
Units = meters
GeoTIFF Units = meters</MDI>
    <MDI key="GEOTIFF_NUM__2048__GeographicTypeGeoKey">65535</MDI>
    <MDI key="GEOTIFF_NUM__2052__GeogLinearUnitsGeoKey">9001</MDI>
    <MDI key="GEOTIFF_NUM__2054__GeogAngularUnitsGeoKey">9001</MDI>
    <MDI key="GEOTIFF_NUM__3075__ProjCoordTransGeoKey">32767</MDI>
    <MDI key="GEOTIFF_NUM__3076__ProjLinearUnitsGeoKey">9001</MDI>
    <MDI key="IMAGE__BITS_PER_SAMPLE">8</MDI>
    <MDI key="IMAGE__COLOR_SCHEME">3</MDI>
    <MDI key="IMAGE__COMPRESSION_BLOCK_SIZE">1024</MDI>
    <MDI key="IMAGE__COMPRESSION_GAMMA">2.000000</MDI>
    <MDI key="IMAGE__COMPRESSION_NLEV">7</MDI>
    <MDI key="IMAGE__COMPRESSION_VERSION">2,0,0</MDI>
    <MDI key="IMAGE__COMPRESSION_WEIGHT">2.000000</MDI>
    <MDI key="IMAGE__CREATION_DATE">Tue Mar 14 16:13:40 2006
</MDI>
    <MDI key="IMAGE__DATA_TYPE">0</MDI>
    <MDI key="IMAGE__DYNAMIC_RANGE_LEVEL">127.500000</MDI>
    <MDI key="IMAGE__DYNAMIC_RANGE_WINDOW">256.000000</MDI>
    <MDI key="IMAGE__HEIGHT">35156</MDI>
    <MDI key="IMAGE__INPUT_FILE_SIZE">1142254593.000000</MDI>
    <MDI key="IMAGE__INPUT_FORMAT">GeoTIFF</MDI>
    <MDI key="IMAGE__INPUT_NAME">\\mslhlnimg001\ddata\Yellowstone\1976\Yellowstone2.tif</MDI>
    <MDI key="IMAGE__TARGET_COMPRESSION_RATIO">14.999999</MDI>
    <MDI key="IMAGE__WIDTH">32475</MDI>
    <MDI key="IMAGE__WKT">PROJCS["unnamed",GEOGCS["unnamed",DATUM["unknown",SPHEROID["unretrievable - using WGS84",6378137,298.257223563]],PRIMEM["Greenwich",0],UNIT["metre",1],AUTHORITY["EPSG","-1"]],UNIT["metre",1,AUTHORITY["EPSG","9001"]]]</MDI>
    <MDI key="IMAGE__XY_ORIGIN">670352.287199,177523.978953</MDI>
    <MDI key="IMAGE__X_RESOLUTION">0.472985</MDI>
    <MDI key="IMAGE__Y_RESOLUTION">0.472985</MDI>
    <MDI key="VERSION">MG2</MDI>
  </Metadata>
  <PAMRasterBand band="1">
    <GDALRasterAttributeTable tableType="thematic">
      <FieldDefn index="0">
        <Name>Histogram</Name>
        <Type>0</Type>
        <Usage>1</Usage>
      </FieldDefn>
      <Row index="0">
        <F>339865470</F>
      </Row>
      <Row index="1">
        <F>352054269</F>
      </Row>
      <Row index="2">
        <F>1639197</F>
      </Row>
      <Row index="3">
        <F>1361367</F>
      </Row>
      <Row index="4">
        <F>1536003</F>
      </Row>
      <Row index="5">
        <F>1154979</F>
      </Row>
      <Row index="6">
        <F>623133</F>
      </Row>
      <Row index="7">
        <F>365148</F>
      </Row>
      <Row index="8">
        <F>198450</F>
      </Row>
      <Row index="9">
        <F>226233</F>
      </Row>
      <Row index="10">
        <F>150822</F>
      </Row>
      <Row index="11">
        <F>134946</F>
      </Row>
      <Row index="12">
        <F>166698</F>
      </Row>
      <Row index="13">
        <F>127008</F>
      </Row>
      <Row index="14">
        <F>103194</F>
      </Row>
      <Row index="15">
        <F>146853</F>
      </Row>
      <Row index="16">
        <F>174636</F>
      </Row>
      <Row index="17">
        <F>166698</F>
      </Row>
      <Row index="18">
        <F>154791</F>
      </Row>
      <Row index="19">
        <F>186543</F>
      </Row>
      <Row index="20">
        <F>123039</F>
      </Row>
      <Row index="21">
        <F>158760</F>
      </Row>
      <Row index="22">
        <F>107163</F>
      </Row>
      <Row index="23">
        <F>138915</F>
      </Row>
      <Row index="24">
        <F>127008</F>
      </Row>
      <Row index="25">
        <F>119070</F>
      </Row>
      <Row index="26">
        <F>111132</F>
      </Row>
      <Row index="27">
        <F>166698</F>
      </Row>
      <Row index="28">
        <F>119070</F>
      </Row>
      <Row index="29">
        <F>154791</F>
      </Row>
      <Row index="30">
        <F>103194</F>
      </Row>
      <Row index="31">
        <F>162729</F>
      </Row>
      <Row index="32">
        <F>174636</F>
      </Row>
      <Row index="33">
        <F>174636</F>
      </Row>
      <Row index="34">
        <F>130977</F>
      </Row>
      <Row index="35">
        <F>127008</F>
      </Row>
      <Row index="36">
        <F>154791</F>
      </Row>
      <Row index="37">
        <F>138915</F>
      </Row>
      <Row index="38">
        <F>174636</F>
      </Row>
      <Row index="39">
        <F>154791</F>
      </Row>
      <Row index="40">
        <F>150822</F>
      </Row>
      <Row index="41">
        <F>111132</F>
      </Row>
      <Row index="42">
        <F>158760</F>
      </Row>
      <Row index="43">
        <F>146853</F>
      </Row>
      <Row index="44">
        <F>178605</F>
      </Row>
      <Row index="45">
        <F>123039</F>
      </Row>
      <Row index="46">
        <F>127008</F>
      </Row>
      <Row index="47">
        <F>154791</F>
      </Row>
      <Row index="48">
        <F>123039</F>
      </Row>
      <Row index="49">
        <F>158760</F>
      </Row>
      <Row index="50">
        <F>178605</F>
      </Row>
      <Row index="51">
        <F>166698</F>
      </Row>
      <Row index="52">
        <F>146853</F>
      </Row>
      <Row index="53">
        <F>214326</F>
      </Row>
      <Row index="54">
        <F>162729</F>
      </Row>
      <Row index="55">
        <F>206388</F>
      </Row>
      <Row index="56">
        <F>170667</F>
      </Row>
      <Row index="57">
        <F>218295</F>
      </Row>
      <Row index="58">
        <F>214326</F>
      </Row>
      <Row index="59">
        <F>250047</F>
      </Row>
      <Row index="60">
        <F>242109</F>
      </Row>
      <Row index="61">
        <F>190512</F>
      </Row>
      <Row index="62">
        <F>257985</F>
      </Row>
      <Row index="63">
        <F>190512</F>
      </Row>
      <Row index="64">
        <F>250047</F>
      </Row>
      <Row index="65">
        <F>313551</F>
      </Row>
      <Row index="66">
        <F>285768</F>
      </Row>
      <Row index="67">
        <F>226233</F>
      </Row>
      <Row index="68">
        <F>285768</F>
      </Row>
      <Row index="69">
        <F>277830</F>
      </Row>
      <Row index="70">
        <F>381024</F>
      </Row>
      <Row index="71">
        <F>357210</F>
      </Row>
      <Row index="72">
        <F>345303</F>
      </Row>
      <Row index="73">
        <F>440559</F>
      </Row>
      <Row index="74">
        <F>392931</F>
      </Row>
      <Row index="75">
        <F>369117</F>
      </Row>
      <Row index="76">
        <F>468342</F>
      </Row>
      <Row index="77">
        <F>480249</F>
      </Row>
      <Row index="78">
        <F>388962</F>
      </Row>
      <Row index="79">
        <F>416745</F>
      </Row>
      <Row index="80">
        <F>500094</F>
      </Row>
      <Row index="81">
        <F>515970</F>
      </Row>
      <Row index="82">
        <F>515970</F>
      </Row>
      <Row index="83">
        <F>547722</F>
      </Row>
      <Row index="84">
        <F>611226</F>
      </Row>
      <Row index="85">
        <F>611226</F>
      </Row>
      <Row index="86">
        <F>639009</F>
      </Row>
      <Row index="87">
        <F>686637</F>
      </Row>
      <Row index="88">
        <F>658854</F>
      </Row>
      <Row index="89">
        <F>654885</F>
      </Row>
      <Row index="90">
        <F>698544</F>
      </Row>
      <Row index="91">
        <F>706482</F>
      </Row>
      <Row index="92">
        <F>789831</F>
      </Row>
      <Row index="93">
        <F>833490</F>
      </Row>
      <Row index="94">
        <F>900963</F>
      </Row>
      <Row index="95">
        <F>813645</F>
      </Row>
      <Row index="96">
        <F>928746</F>
      </Row>
      <Row index="97">
        <F>904932</F>
      </Row>
      <Row index="98">
        <F>960498</F>
      </Row>
      <Row index="99">
        <F>1020033</F>
      </Row>
      <Row index="100">
        <F>1115289</F>
      </Row>
      <Row index="101">
        <F>1226421</F>
      </Row>
      <Row index="102">
        <F>1210545</F>
      </Row>
      <Row index="103">
        <F>1274049</F>
      </Row>
      <Row index="104">
        <F>1170855</F>
      </Row>
      <Row index="105">
        <F>1476468</F>
      </Row>
      <Row index="106">
        <F>1341522</F>
      </Row>
      <Row index="107">
        <F>1377243</F>
      </Row>
      <Row index="108">
        <F>1583631</F>
      </Row>
      <Row index="109">
        <F>1480437</F>
      </Row>
      <Row index="110">
        <F>1651104</F>
      </Row>
      <Row index="111">
        <F>1567755</F>
      </Row>
      <Row index="112">
        <F>1774143</F>
      </Row>
      <Row index="113">
        <F>1710639</F>
      </Row>
      <Row index="114">
        <F>1770174</F>
      </Row>
      <Row index="115">
        <F>1901151</F>
      </Row>
      <Row index="116">
        <F>1877337</F>
      </Row>
      <Row index="117">
        <F>2071818</F>
      </Row>
      <Row index="118">
        <F>2222640</F>
      </Row>
      <Row index="119">
        <F>2238516</F>
      </Row>
      <Row index="120">
        <F>2079756</F>
      </Row>
      <Row index="121">
        <F>2266299</F>
      </Row>
      <Row index="122">
        <F>2294082</F>
      </Row>
      <Row index="123">
        <F>2448873</F>
      </Row>
      <Row index="124">
        <F>2488563</F>
      </Row>
      <Row index="125">
        <F>2556036</F>
      </Row>
      <Row index="126">
        <F>2615571</F>
      </Row>
      <Row index="127">
        <F>2845773</F>
      </Row>
      <Row index="128">
        <F>2786238</F>
      </Row>
      <Row index="129">
        <F>2806083</F>
      </Row>
      <Row index="130">
        <F>2873556</F>
      </Row>
      <Row index="131">
        <F>2786238</F>
      </Row>
      <Row index="132">
        <F>2980719</F>
      </Row>
      <Row index="133">
        <F>2877525</F>
      </Row>
      <Row index="134">
        <F>3095820</F>
      </Row>
      <Row index="135">
        <F>3365712</F>
      </Row>
      <Row index="136">
        <F>3218859</F>
      </Row>
      <Row index="137">
        <F>3199014</F>
      </Row>
      <Row index="138">
        <F>3226797</F>
      </Row>
      <Row index="139">
        <F>3266487</F>
      </Row>
      <Row index="140">
        <F>3500658</F>
      </Row>
      <Row index="141">
        <F>3492720</F>
      </Row>
      <Row index="142">
        <F>3488751</F>
      </Row>
      <Row index="143">
        <F>3595914</F>
      </Row>
      <Row index="144">
        <F>3663387</F>
      </Row>
      <Row index="145">
        <F>3405402</F>
      </Row>
      <Row index="146">
        <F>3802302</F>
      </Row>
      <Row index="147">
        <F>3560193</F>
      </Row>
      <Row index="148">
        <F>3691170</F>
      </Row>
      <Row index="149">
        <F>3738798</F>
      </Row>
      <Row index="150">
        <F>3853899</F>
      </Row>
      <Row index="151">
        <F>3961062</F>
      </Row>
      <Row index="152">
        <F>4230954</F>
      </Row>
      <Row index="153">
        <F>3786426</F>
      </Row>
      <Row index="154">
        <F>4199202</F>
      </Row>
      <Row index="155">
        <F>4183326</F>
      </Row>
      <Row index="156">
        <F>4048380</F>
      </Row>
      <Row index="157">
        <F>4155543</F>
      </Row>
      <Row index="158">
        <F>4040442</F>
      </Row>
      <Row index="159">
        <F>4215078</F>
      </Row>
      <Row index="160">
        <F>4155543</F>
      </Row>
      <Row index="161">
        <F>4103946</F>
      </Row>
      <Row index="162">
        <F>4290489</F>
      </Row>
      <Row index="163">
        <F>3965031</F>
      </Row>
      <Row index="164">
        <F>4338117</F>
      </Row>
      <Row index="165">
        <F>4318272</F>
      </Row>
      <Row index="166">
        <F>4246830</F>
      </Row>
      <Row index="167">
        <F>4246830</F>
      </Row>
      <Row index="168">
        <F>3929310</F>
      </Row>
      <Row index="169">
        <F>4238892</F>
      </Row>
      <Row index="170">
        <F>4191264</F>
      </Row>
      <Row index="171">
        <F>3992814</F>
      </Row>
      <Row index="172">
        <F>4004721</F>
      </Row>
      <Row index="173">
        <F>3949155</F>
      </Row>
      <Row index="174">
        <F>3937248</F>
      </Row>
      <Row index="175">
        <F>3722922</F>
      </Row>
      <Row index="176">
        <F>3992814</F>
      </Row>
      <Row index="177">
        <F>3818178</F>
      </Row>
      <Row index="178">
        <F>3877713</F>
      </Row>
      <Row index="179">
        <F>3917403</F>
      </Row>
      <Row index="180">
        <F>3857868</F>
      </Row>
      <Row index="181">
        <F>3667356</F>
      </Row>
      <Row index="182">
        <F>3730860</F>
      </Row>
      <Row index="183">
        <F>3770550</F>
      </Row>
      <Row index="184">
        <F>3798333</F>
      </Row>
      <Row index="185">
        <F>3595914</F>
      </Row>
      <Row index="186">
        <F>3333960</F>
      </Row>
      <Row index="187">
        <F>3393495</F>
      </Row>
      <Row index="188">
        <F>3433185</F>
      </Row>
      <Row index="189">
        <F>3540348</F>
      </Row>
      <Row index="190">
        <F>3218859</F>
      </Row>
      <Row index="191">
        <F>3242673</F>
      </Row>
      <Row index="192">
        <F>3306177</F>
      </Row>
      <Row index="193">
        <F>2964843</F>
      </Row>
      <Row index="194">
        <F>3206952</F>
      </Row>
      <Row index="195">
        <F>3040254</F>
      </Row>
      <Row index="196">
        <F>2956905</F>
      </Row>
      <Row index="197">
        <F>2948967</F>
      </Row>
      <Row index="198">
        <F>2738610</F>
      </Row>
      <Row index="199">
        <F>2885463</F>
      </Row>
      <Row index="200">
        <F>2806083</F>
      </Row>
      <Row index="201">
        <F>2683044</F>
      </Row>
      <Row index="202">
        <F>2520315</F>
      </Row>
      <Row index="203">
        <F>2536191</F>
      </Row>
      <Row index="204">
        <F>2452842</F>
      </Row>
      <Row index="205">
        <F>2210733</F>
      </Row>
      <Row index="206">
        <F>2409183</F>
      </Row>
      <Row index="207">
        <F>2234547</F>
      </Row>
      <Row index="208">
        <F>2238516</F>
      </Row>
      <Row index="209">
        <F>2143260</F>
      </Row>
      <Row index="210">
        <F>1956717</F>
      </Row>
      <Row index="211">
        <F>2075787</F>
      </Row>
      <Row index="212">
        <F>1988469</F>
      </Row>
      <Row index="213">
        <F>2012283</F>
      </Row>
      <Row index="214">
        <F>1805895</F>
      </Row>
      <Row index="215">
        <F>1869399</F>
      </Row>
      <Row index="216">
        <F>1615383</F>
      </Row>
      <Row index="217">
        <F>1476468</F>
      </Row>
      <Row index="218">
        <F>1591569</F>
      </Row>
      <Row index="219">
        <F>1401057</F>
      </Row>
      <Row index="220">
        <F>1504251</F>
      </Row>
      <Row index="221">
        <F>1428840</F>
      </Row>
      <Row index="222">
        <F>1448685</F>
      </Row>
      <Row index="223">
        <F>1250235</F>
      </Row>
      <Row index="224">
        <F>1266111</F>
      </Row>
      <Row index="225">
        <F>1222452</F>
      </Row>
      <Row index="226">
        <F>1075599</F>
      </Row>
      <Row index="227">
        <F>1115289</F>
      </Row>
      <Row index="228">
        <F>1071630</F>
      </Row>
      <Row index="229">
        <F>1004157</F>
      </Row>
      <Row index="230">
        <F>984312</F>
      </Row>
      <Row index="231">
        <F>869211</F>
      </Row>
      <Row index="232">
        <F>885087</F>
      </Row>
      <Row index="233">
        <F>801738</F>
      </Row>
      <Row index="234">
        <F>821583</F>
      </Row>
      <Row index="235">
        <F>789831</F>
      </Row>
      <Row index="236">
        <F>670761</F>
      </Row>
      <Row index="237">
        <F>674730</F>
      </Row>
      <Row index="238">
        <F>627102</F>
      </Row>
      <Row index="239">
        <F>650916</F>
      </Row>
      <Row index="240">
        <F>527877</F>
      </Row>
      <Row index="241">
        <F>460404</F>
      </Row>
      <Row index="242">
        <F>460404</F>
      </Row>
      <Row index="243">
        <F>504063</F>
      </Row>
      <Row index="244">
        <F>476280</F>
      </Row>
      <Row index="245">
        <F>365148</F>
      </Row>
      <Row index="246">
        <F>329427</F>
      </Row>
      <Row index="247">
        <F>381024</F>
      </Row>
      <Row index="248">
        <F>341334</F>
      </Row>
      <Row index="249">
        <F>333396</F>
      </Row>
      <Row index="250">
        <F>349272</F>
      </Row>
      <Row index="251">
        <F>309582</F>
      </Row>
      <Row index="252">
        <F>277830</F>
      </Row>
      <Row index="253">
        <F>257985</F>
      </Row>
      <Row index="254">
        <F>281799</F>
      </Row>
      <Row index="255">
        <F>710451</F>
      </Row>
    </GDALRasterAttributeTable>
    <Metadata>
      <MDI key="LAYER_TYPE">athematic</MDI>
      <MDI key="STATISTICS_APPROXIMATE">YES</MDI>
      <MDI key="STATISTICS_HISTOBINVALUES">339865470|352054269|1639197|1361367|1536003|1154979|623133|365148|198450|226233|150822|134946|166698|127008|103194|146853|174636|166698|154791|186543|123039|158760|107163|138915|127008|119070|111132|166698|119070|154791|103194|162729|174636|174636|130977|127008|154791|138915|174636|154791|150822|111132|158760|146853|178605|123039|127008|154791|123039|158760|178605|166698|146853|214326|162729|206388|170667|218295|214326|250047|242109|190512|257985|190512|250047|313551|285768|226233|285768|277830|381024|357210|345303|440559|392931|369117|468342|480249|388962|416745|500094|515970|515970|547722|611226|611226|639009|686637|658854|654885|698544|706482|789831|833490|900963|813645|928746|904932|960498|1020033|1115289|1226421|1210545|1274049|1170855|1476468|1341522|1377243|1583631|1480437|1651104|1567755|1774143|1710639|1770174|1901151|1877337|2071818|2222640|2238516|2079756|2266299|2294082|2448873|2488563|2556036|2615571|2845773|2786238|2806083|2873556|2786238|2980719|2877525|3095820|3365712|3218859|3199014|3226797|3266487|3500658|3492720|3488751|3595914|3663387|3405402|3802302|3560193|3691170|3738798|3853899|3961062|4230954|3786426|4199202|4183326|4048380|4155543|4040442|4215078|4155543|4103946|4290489|3965031|4338117|4318272|4246830|4246830|3929310|4238892|4191264|3992814|4004721|3949155|3937248|3722922|3992814|3818178|3877713|3917403|3857868|3667356|3730860|3770550|3798333|3595914|3333960|3393495|3433185|3540348|3218859|3242673|3306177|2964843|3206952|3040254|2956905|2948967|2738610|2885463|2806083|2683044|2520315|2536191|2452842|2210733|2409183|2234547|2238516|2143260|1956717|2075787|1988469|2012283|1805895|1869399|1615383|1476468|1591569|1401057|1504251|1428840|1448685|1250235|1266111|1222452|1075599|1115289|1071630|1004157|984312|869211|885087|801738|821583|789831|670761|674730|627102|650916|527877|460404|460404|504063|476280|365148|329427|381024|341334|333396|349272|309582|277830|257985|281799|710451|</MDI>
      <MDI key="STATISTICS_MAXIMUM">255</MDI>
      <MDI key="STATISTICS_MEAN">59.055218324982</MDI>
      <MDI key="STATISTICS_MINIMUM">0</MDI>
      <MDI key="STATISTICS_STDDEV">79.977974600699</MDI>
      <MDI key="STATISTICS_VALID_PERCENT">100</MDI>
    </Metadata>
  </PAMRasterBand>
</PAMDataset>
