<PAMDataset>
  <SRS dataAxisToSRSAxisMapping="2,1,3">PROJCS["NAD_1983_StatePlane_Montana_FIPS_2500",GEOGCS["GCS_North_American_1983",DATUM["North_American_Datum_1983",SPHEROID["GRS_1980",6378137,298.257222101]],PRIMEM["Greenwich",0],UNIT["Degree",0.0174532925199432955],AUTHORITY["EPSG","4269"]],PROJECTION["Lambert_Conformal_Conic_2SP"],PARAMETER["False_Easting",600000],PARAMETER["False_Northing",0],PARAMETER["Central_Meridian",-109.5],PARAMETER["Standard_Parallel_1",45],PARAMETER["Standard_Parallel_2",49],PARAMETER["Latitude_Of_Origin",44.25],UNIT["Meter",1]]</SRS>
  <GeoTransform>  6.8072551703405823e+05,  4.7305999999999998e-01,  0.0000000000000000e+00,  1.9318703871618872e+05,  0.0000000000000000e+00, -4.7305999999999998e-01</GeoTransform>
  <Metadata>
    <MDI key="GEOTIFF_CHAR__GeogAngularUnitsGeoKey">Linear_Meter</MDI>
    <MDI key="GEOTIFF_CHAR__GeogLinearUnitsGeoKey">Linear_Meter</MDI>
    <MDI key="GEOTIFF_CHAR__GeographicTypeGeoKey">Unknown-65535</MDI>
    <MDI key="GEOTIFF_CHAR__GTModelTypeGeoKey">ModelTypeProjected</MDI>
    <MDI key="GEOTIFF_CHAR__GTRasterTypeGeoKey">RasterPixelIsArea</MDI>
    <MDI key="GEOTIFF_CHAR__ProjCoordTransGeoKey">User-Defined</MDI>
    <MDI key="GEOTIFF_CHAR__ProjLinearUnitsGeoKey">Linear_Meter</MDI>
    <MDI key="GEOTIFF_NUM__1024__GTModelTypeGeoKey">1</MDI>
    <MDI key="GEOTIFF_NUM__1025__GTRasterTypeGeoKey">1</MDI>
    <MDI key="GEOTIFF_NUM__1026__GTCitationGeoKey">IMAGINE GeoTIFF Support
Copyright 1991 - 2001 by ERDAS, Inc. All Rights Reserved
@(#)$RCSfile: egtf.c $ $Revision: 1.11.2.3 $ $Date: 2004/11/24 09:12:56EST $
Projection Name = NAD_1983_StatePlane_Montana_FIPS_2500
Units = meters
GeoTIFF Units = meters</MDI>
    <MDI key="GEOTIFF_NUM__2048__GeographicTypeGeoKey">65535</MDI>
    <MDI key="GEOTIFF_NUM__2052__GeogLinearUnitsGeoKey">9001</MDI>
    <MDI key="GEOTIFF_NUM__2054__GeogAngularUnitsGeoKey">9001</MDI>
    <MDI key="GEOTIFF_NUM__3075__ProjCoordTransGeoKey">32767</MDI>
    <MDI key="GEOTIFF_NUM__3076__ProjLinearUnitsGeoKey">9001</MDI>
    <MDI key="IMAGE__BITS_PER_SAMPLE">8</MDI>
    <MDI key="IMAGE__COLOR_SCHEME">3</MDI>
    <MDI key="IMAGE__COMPRESSION_BLOCK_SIZE">1024</MDI>
    <MDI key="IMAGE__COMPRESSION_GAMMA">2.000000</MDI>
    <MDI key="IMAGE__COMPRESSION_NLEV">8</MDI>
    <MDI key="IMAGE__COMPRESSION_VERSION">2,0,0</MDI>
    <MDI key="IMAGE__COMPRESSION_WEIGHT">2.000000</MDI>
    <MDI key="IMAGE__CREATION_DATE">Tue Mar 14 16:33:46 2006
</MDI>
    <MDI key="IMAGE__DATA_TYPE">0</MDI>
    <MDI key="IMAGE__DYNAMIC_RANGE_LEVEL">127.500000</MDI>
    <MDI key="IMAGE__DYNAMIC_RANGE_WINDOW">256.000000</MDI>
    <MDI key="IMAGE__HEIGHT">42771</MDI>
    <MDI key="IMAGE__INPUT_FILE_SIZE">1610072521.000000</MDI>
    <MDI key="IMAGE__INPUT_FORMAT">GeoTIFF</MDI>
    <MDI key="IMAGE__INPUT_NAME">\\mslhlnimg001\ddata\Yellowstone\1976\Yellowstone3.tif</MDI>
    <MDI key="IMAGE__TARGET_COMPRESSION_RATIO">14.999999</MDI>
    <MDI key="IMAGE__WIDTH">37628</MDI>
    <MDI key="IMAGE__WKT">PROJCS["unnamed",GEOGCS["unnamed",DATUM["unknown",SPHEROID["unretrievable - using WGS84",6378137,298.257223563]],PRIMEM["Greenwich",0],UNIT["metre",1],AUTHORITY["EPSG","-1"]],UNIT["metre",1,AUTHORITY["EPSG","9001"]]]</MDI>
    <MDI key="IMAGE__XY_ORIGIN">680725.753564,193186.802186</MDI>
    <MDI key="IMAGE__X_RESOLUTION">0.473060</MDI>
    <MDI key="IMAGE__Y_RESOLUTION">0.473060</MDI>
    <MDI key="VERSION">MG2</MDI>
  </Metadata>
  <PAMRasterBand band="1">
    <GDALRasterAttributeTable tableType="thematic">
      <FieldDefn index="0">
        <Name>Histogram</Name>
        <Type>0</Type>
        <Usage>1</Usage>
      </FieldDefn>
      <Row index="0">
        <F>514596726</F>
      </Row>
      <Row index="1">
        <F>524233458</F>
      </Row>
      <Row index="2">
        <F>1869399</F>
      </Row>
      <Row index="3">
        <F>1682856</F>
      </Row>
      <Row index="4">
        <F>1611414</F>
      </Row>
      <Row index="5">
        <F>1460592</F>
      </Row>
      <Row index="6">
        <F>1151010</F>
      </Row>
      <Row index="7">
        <F>738234</F>
      </Row>
      <Row index="8">
        <F>531846</F>
      </Row>
      <Row index="9">
        <F>305613</F>
      </Row>
      <Row index="10">
        <F>178605</F>
      </Row>
      <Row index="11">
        <F>174636</F>
      </Row>
      <Row index="12">
        <F>138915</F>
      </Row>
      <Row index="13">
        <F>158760</F>
      </Row>
      <Row index="14">
        <F>115101</F>
      </Row>
      <Row index="15">
        <F>107163</F>
      </Row>
      <Row index="16">
        <F>138915</F>
      </Row>
      <Row index="17">
        <F>119070</F>
      </Row>
      <Row index="18">
        <F>103194</F>
      </Row>
      <Row index="19">
        <F>99225</F>
      </Row>
      <Row index="20">
        <F>146853</F>
      </Row>
      <Row index="21">
        <F>103194</F>
      </Row>
      <Row index="22">
        <F>103194</F>
      </Row>
      <Row index="23">
        <F>103194</F>
      </Row>
      <Row index="24">
        <F>154791</F>
      </Row>
      <Row index="25">
        <F>75411</F>
      </Row>
      <Row index="26">
        <F>87318</F>
      </Row>
      <Row index="27">
        <F>107163</F>
      </Row>
      <Row index="28">
        <F>111132</F>
      </Row>
      <Row index="29">
        <F>87318</F>
      </Row>
      <Row index="30">
        <F>79380</F>
      </Row>
      <Row index="31">
        <F>87318</F>
      </Row>
      <Row index="32">
        <F>75411</F>
      </Row>
      <Row index="33">
        <F>79380</F>
      </Row>
      <Row index="34">
        <F>138915</F>
      </Row>
      <Row index="35">
        <F>130977</F>
      </Row>
      <Row index="36">
        <F>115101</F>
      </Row>
      <Row index="37">
        <F>79380</F>
      </Row>
      <Row index="38">
        <F>95256</F>
      </Row>
      <Row index="39">
        <F>119070</F>
      </Row>
      <Row index="40">
        <F>103194</F>
      </Row>
      <Row index="41">
        <F>87318</F>
      </Row>
      <Row index="42">
        <F>127008</F>
      </Row>
      <Row index="43">
        <F>63504</F>
      </Row>
      <Row index="44">
        <F>99225</F>
      </Row>
      <Row index="45">
        <F>119070</F>
      </Row>
      <Row index="46">
        <F>107163</F>
      </Row>
      <Row index="47">
        <F>87318</F>
      </Row>
      <Row index="48">
        <F>119070</F>
      </Row>
      <Row index="49">
        <F>130977</F>
      </Row>
      <Row index="50">
        <F>67473</F>
      </Row>
      <Row index="51">
        <F>119070</F>
      </Row>
      <Row index="52">
        <F>119070</F>
      </Row>
      <Row index="53">
        <F>150822</F>
      </Row>
      <Row index="54">
        <F>119070</F>
      </Row>
      <Row index="55">
        <F>103194</F>
      </Row>
      <Row index="56">
        <F>111132</F>
      </Row>
      <Row index="57">
        <F>158760</F>
      </Row>
      <Row index="58">
        <F>95256</F>
      </Row>
      <Row index="59">
        <F>178605</F>
      </Row>
      <Row index="60">
        <F>123039</F>
      </Row>
      <Row index="61">
        <F>198450</F>
      </Row>
      <Row index="62">
        <F>142884</F>
      </Row>
      <Row index="63">
        <F>194481</F>
      </Row>
      <Row index="64">
        <F>214326</F>
      </Row>
      <Row index="65">
        <F>230202</F>
      </Row>
      <Row index="66">
        <F>285768</F>
      </Row>
      <Row index="67">
        <F>254016</F>
      </Row>
      <Row index="68">
        <F>265923</F>
      </Row>
      <Row index="69">
        <F>412776</F>
      </Row>
      <Row index="70">
        <F>361179</F>
      </Row>
      <Row index="71">
        <F>301644</F>
      </Row>
      <Row index="72">
        <F>388962</F>
      </Row>
      <Row index="73">
        <F>341334</F>
      </Row>
      <Row index="74">
        <F>392931</F>
      </Row>
      <Row index="75">
        <F>396900</F>
      </Row>
      <Row index="76">
        <F>436590</F>
      </Row>
      <Row index="77">
        <F>472311</F>
      </Row>
      <Row index="78">
        <F>396900</F>
      </Row>
      <Row index="79">
        <F>547722</F>
      </Row>
      <Row index="80">
        <F>579474</F>
      </Row>
      <Row index="81">
        <F>615195</F>
      </Row>
      <Row index="82">
        <F>623133</F>
      </Row>
      <Row index="83">
        <F>718389</F>
      </Row>
      <Row index="84">
        <F>623133</F>
      </Row>
      <Row index="85">
        <F>670761</F>
      </Row>
      <Row index="86">
        <F>579474</F>
      </Row>
      <Row index="87">
        <F>670761</F>
      </Row>
      <Row index="88">
        <F>742203</F>
      </Row>
      <Row index="89">
        <F>817614</F>
      </Row>
      <Row index="90">
        <F>932715</F>
      </Row>
      <Row index="91">
        <F>964467</F>
      </Row>
      <Row index="92">
        <F>1031940</F>
      </Row>
      <Row index="93">
        <F>936684</F>
      </Row>
      <Row index="94">
        <F>1031940</F>
      </Row>
      <Row index="95">
        <F>1178793</F>
      </Row>
      <Row index="96">
        <F>1063692</F>
      </Row>
      <Row index="97">
        <F>1166886</F>
      </Row>
      <Row index="98">
        <F>1250235</F>
      </Row>
      <Row index="99">
        <F>1285956</F>
      </Row>
      <Row index="100">
        <F>1377243</F>
      </Row>
      <Row index="101">
        <F>1416933</F>
      </Row>
      <Row index="102">
        <F>1619352</F>
      </Row>
      <Row index="103">
        <F>1516158</F>
      </Row>
      <Row index="104">
        <F>1678887</F>
      </Row>
      <Row index="105">
        <F>1599507</F>
      </Row>
      <Row index="106">
        <F>1559817</F>
      </Row>
      <Row index="107">
        <F>1813833</F>
      </Row>
      <Row index="108">
        <F>1694763</F>
      </Row>
      <Row index="109">
        <F>1992438</F>
      </Row>
      <Row index="110">
        <F>2048004</F>
      </Row>
      <Row index="111">
        <F>2155167</F>
      </Row>
      <Row index="112">
        <F>2075787</F>
      </Row>
      <Row index="113">
        <F>2290113</F>
      </Row>
      <Row index="114">
        <F>2079756</F>
      </Row>
      <Row index="115">
        <F>2135322</F>
      </Row>
      <Row index="116">
        <F>2492532</F>
      </Row>
      <Row index="117">
        <F>2484594</F>
      </Row>
      <Row index="118">
        <F>2567943</F>
      </Row>
      <Row index="119">
        <F>2548098</F>
      </Row>
      <Row index="120">
        <F>2770362</F>
      </Row>
      <Row index="121">
        <F>2873556</F>
      </Row>
      <Row index="122">
        <F>3151386</F>
      </Row>
      <Row index="123">
        <F>2933091</F>
      </Row>
      <Row index="124">
        <F>3226797</F>
      </Row>
      <Row index="125">
        <F>3167262</F>
      </Row>
      <Row index="126">
        <F>3437154</F>
      </Row>
      <Row index="127">
        <F>3322053</F>
      </Row>
      <Row index="128">
        <F>3433185</F>
      </Row>
      <Row index="129">
        <F>3456999</F>
      </Row>
      <Row index="130">
        <F>3722922</F>
      </Row>
      <Row index="131">
        <F>3663387</F>
      </Row>
      <Row index="132">
        <F>3639573</F>
      </Row>
      <Row index="133">
        <F>3599883</F>
      </Row>
      <Row index="134">
        <F>3818178</F>
      </Row>
      <Row index="135">
        <F>3703077</F>
      </Row>
      <Row index="136">
        <F>4064256</F>
      </Row>
      <Row index="137">
        <F>4127760</F>
      </Row>
      <Row index="138">
        <F>4250799</F>
      </Row>
      <Row index="139">
        <F>4052349</F>
      </Row>
      <Row index="140">
        <F>4115853</F>
      </Row>
      <Row index="141">
        <F>4187295</F>
      </Row>
      <Row index="142">
        <F>4429404</F>
      </Row>
      <Row index="143">
        <F>4203171</F>
      </Row>
      <Row index="144">
        <F>4409559</F>
      </Row>
      <Row index="145">
        <F>4465125</F>
      </Row>
      <Row index="146">
        <F>4556412</F>
      </Row>
      <Row index="147">
        <F>4639761</F>
      </Row>
      <Row index="148">
        <F>4683420</F>
      </Row>
      <Row index="149">
        <F>4540536</F>
      </Row>
      <Row index="150">
        <F>4762800</F>
      </Row>
      <Row index="151">
        <F>4635792</F>
      </Row>
      <Row index="152">
        <F>4663575</F>
      </Row>
      <Row index="153">
        <F>4794552</F>
      </Row>
      <Row index="154">
        <F>4818366</F>
      </Row>
      <Row index="155">
        <F>4540536</F>
      </Row>
      <Row index="156">
        <F>4679451</F>
      </Row>
      <Row index="157">
        <F>4715172</F>
      </Row>
      <Row index="158">
        <F>4643730</F>
      </Row>
      <Row index="159">
        <F>4417497</F>
      </Row>
      <Row index="160">
        <F>4540536</F>
      </Row>
      <Row index="161">
        <F>4786614</F>
      </Row>
      <Row index="162">
        <F>4683420</F>
      </Row>
      <Row index="163">
        <F>4738986</F>
      </Row>
      <Row index="164">
        <F>4659606</F>
      </Row>
      <Row index="165">
        <F>4596102</F>
      </Row>
      <Row index="166">
        <F>4552443</F>
      </Row>
      <Row index="167">
        <F>4492908</F>
      </Row>
      <Row index="168">
        <F>4754862</F>
      </Row>
      <Row index="169">
        <F>4544505</F>
      </Row>
      <Row index="170">
        <F>4635792</F>
      </Row>
      <Row index="171">
        <F>4584195</F>
      </Row>
      <Row index="172">
        <F>4429404</F>
      </Row>
      <Row index="173">
        <F>4556412</F>
      </Row>
      <Row index="174">
        <F>4393683</F>
      </Row>
      <Row index="175">
        <F>4484970</F>
      </Row>
      <Row index="176">
        <F>4401621</F>
      </Row>
      <Row index="177">
        <F>4107915</F>
      </Row>
      <Row index="178">
        <F>4294458</F>
      </Row>
      <Row index="179">
        <F>4306365</F>
      </Row>
      <Row index="180">
        <F>4207140</F>
      </Row>
      <Row index="181">
        <F>4004721</F>
      </Row>
      <Row index="182">
        <F>4020597</F>
      </Row>
      <Row index="183">
        <F>4167450</F>
      </Row>
      <Row index="184">
        <F>4088070</F>
      </Row>
      <Row index="185">
        <F>4365900</F>
      </Row>
      <Row index="186">
        <F>3865806</F>
      </Row>
      <Row index="187">
        <F>4096008</F>
      </Row>
      <Row index="188">
        <F>3841992</F>
      </Row>
      <Row index="189">
        <F>3913434</F>
      </Row>
      <Row index="190">
        <F>3913434</F>
      </Row>
      <Row index="191">
        <F>3953124</F>
      </Row>
      <Row index="192">
        <F>3651480</F>
      </Row>
      <Row index="193">
        <F>3770550</F>
      </Row>
      <Row index="194">
        <F>3754674</F>
      </Row>
      <Row index="195">
        <F>3830085</F>
      </Row>
      <Row index="196">
        <F>3687201</F>
      </Row>
      <Row index="197">
        <F>3667356</F>
      </Row>
      <Row index="198">
        <F>3504627</F>
      </Row>
      <Row index="199">
        <F>3512565</F>
      </Row>
      <Row index="200">
        <F>3397464</F>
      </Row>
      <Row index="201">
        <F>3433185</F>
      </Row>
      <Row index="202">
        <F>3476844</F>
      </Row>
      <Row index="203">
        <F>3139479</F>
      </Row>
      <Row index="204">
        <F>3349836</F>
      </Row>
      <Row index="205">
        <F>2988657</F>
      </Row>
      <Row index="206">
        <F>2929122</F>
      </Row>
      <Row index="207">
        <F>3020409</F>
      </Row>
      <Row index="208">
        <F>3163293</F>
      </Row>
      <Row index="209">
        <F>3119634</F>
      </Row>
      <Row index="210">
        <F>2996595</F>
      </Row>
      <Row index="211">
        <F>2730672</F>
      </Row>
      <Row index="212">
        <F>2909277</F>
      </Row>
      <Row index="213">
        <F>2698920</F>
      </Row>
      <Row index="214">
        <F>2452842</F>
      </Row>
      <Row index="215">
        <F>2746548</F>
      </Row>
      <Row index="216">
        <F>2544129</F>
      </Row>
      <Row index="217">
        <F>2484594</F>
      </Row>
      <Row index="218">
        <F>2647323</F>
      </Row>
      <Row index="219">
        <F>2627478</F>
      </Row>
      <Row index="220">
        <F>2516346</F>
      </Row>
      <Row index="221">
        <F>2516346</F>
      </Row>
      <Row index="222">
        <F>2504439</F>
      </Row>
      <Row index="223">
        <F>2178981</F>
      </Row>
      <Row index="224">
        <F>2444904</F>
      </Row>
      <Row index="225">
        <F>2278206</F>
      </Row>
      <Row index="226">
        <F>2155167</F>
      </Row>
      <Row index="227">
        <F>2250423</F>
      </Row>
      <Row index="228">
        <F>2190888</F>
      </Row>
      <Row index="229">
        <F>2163105</F>
      </Row>
      <Row index="230">
        <F>2099601</F>
      </Row>
      <Row index="231">
        <F>1845585</F>
      </Row>
      <Row index="232">
        <F>1889244</F>
      </Row>
      <Row index="233">
        <F>1738422</F>
      </Row>
      <Row index="234">
        <F>1690794</F>
      </Row>
      <Row index="235">
        <F>1619352</F>
      </Row>
      <Row index="236">
        <F>1539972</F>
      </Row>
      <Row index="237">
        <F>1408995</F>
      </Row>
      <Row index="238">
        <F>1226421</F>
      </Row>
      <Row index="239">
        <F>1361367</F>
      </Row>
      <Row index="240">
        <F>1333584</F>
      </Row>
      <Row index="241">
        <F>1289925</F>
      </Row>
      <Row index="242">
        <F>1270080</F>
      </Row>
      <Row index="243">
        <F>1075599</F>
      </Row>
      <Row index="244">
        <F>992250</F>
      </Row>
      <Row index="245">
        <F>968436</F>
      </Row>
      <Row index="246">
        <F>1004157</F>
      </Row>
      <Row index="247">
        <F>865242</F>
      </Row>
      <Row index="248">
        <F>813645</F>
      </Row>
      <Row index="249">
        <F>896994</F>
      </Row>
      <Row index="250">
        <F>837459</F>
      </Row>
      <Row index="251">
        <F>821583</F>
      </Row>
      <Row index="252">
        <F>896994</F>
      </Row>
      <Row index="253">
        <F>817614</F>
      </Row>
      <Row index="254">
        <F>646947</F>
      </Row>
      <Row index="255">
        <F>1762236</F>
      </Row>
    </GDALRasterAttributeTable>
    <Metadata>
      <MDI key="LAYER_TYPE">athematic</MDI>
      <MDI key="STATISTICS_APPROXIMATE">YES</MDI>
      <MDI key="STATISTICS_HISTOBINVALUES">514596726|524233458|1869399|1682856|1611414|1460592|1151010|738234|531846|305613|178605|174636|138915|158760|115101|107163|138915|119070|103194|99225|146853|103194|103194|103194|154791|75411|87318|107163|111132|87318|79380|87318|75411|79380|138915|130977|115101|79380|95256|119070|103194|87318|127008|63504|99225|119070|107163|87318|119070|130977|67473|119070|119070|150822|119070|103194|111132|158760|95256|178605|123039|198450|142884|194481|214326|230202|285768|254016|265923|412776|361179|301644|388962|341334|392931|396900|436590|472311|396900|547722|579474|615195|623133|718389|623133|670761|579474|670761|742203|817614|932715|964467|1031940|936684|1031940|1178793|1063692|1166886|1250235|1285956|1377243|1416933|1619352|1516158|1678887|1599507|1559817|1813833|1694763|1992438|2048004|2155167|2075787|2290113|2079756|2135322|2492532|2484594|2567943|2548098|2770362|2873556|3151386|2933091|3226797|3167262|3437154|3322053|3433185|3456999|3722922|3663387|3639573|3599883|3818178|3703077|4064256|4127760|4250799|4052349|4115853|4187295|4429404|4203171|4409559|4465125|4556412|4639761|4683420|4540536|4762800|4635792|4663575|4794552|4818366|4540536|4679451|4715172|4643730|4417497|4540536|4786614|4683420|4738986|4659606|4596102|4552443|4492908|4754862|4544505|4635792|4584195|4429404|4556412|4393683|4484970|4401621|4107915|4294458|4306365|4207140|4004721|4020597|4167450|4088070|4365900|3865806|4096008|3841992|3913434|3913434|3953124|3651480|3770550|3754674|3830085|3687201|3667356|3504627|3512565|3397464|3433185|3476844|3139479|3349836|2988657|2929122|3020409|3163293|3119634|2996595|2730672|2909277|2698920|2452842|2746548|2544129|2484594|2647323|2627478|2516346|2516346|2504439|2178981|2444904|2278206|2155167|2250423|2190888|2163105|2099601|1845585|1889244|1738422|1690794|1619352|1539972|1408995|1226421|1361367|1333584|1289925|1270080|1075599|992250|968436|1004157|865242|813645|896994|837459|821583|896994|817614|646947|1762236|</MDI>
      <MDI key="STATISTICS_MAXIMUM">255</MDI>
      <MDI key="STATISTICS_MEAN">53.920472951085</MDI>
      <MDI key="STATISTICS_MINIMUM">0</MDI>
      <MDI key="STATISTICS_STDDEV">79.122880277357</MDI>
      <MDI key="STATISTICS_VALID_PERCENT">100</MDI>
    </Metadata>
  </PAMRasterBand>
</PAMDataset>
