<PAMDataset>
  <SRS dataAxisToSRSAxisMapping="2,1,3">PROJCS["NAD_1983_StatePlane_Montana_FIPS_2500",GEOGCS["GCS_North_American_1983",DATUM["North_American_Datum_1983",SPHEROID["GRS_1980",6378137,298.257222101]],PRIMEM["Greenwich",0],UNIT["Degree",0.0174532925199432955],AUTHORITY["EPSG","4269"]],PROJECTION["Lambert_Conformal_Conic_2SP"],PARAMETER["False_Easting",600000],PARAMETER["False_Northing",0],PARAMETER["Central_Meridian",-109.5],PARAMETER["Standard_Parallel_1",45],PARAMETER["Standard_Parallel_2",49],PARAMETER["Latitude_Of_Origin",44.25],UNIT["Meter",1]]</SRS>
  <GeoTransform>  6.9381602200000000e+05,  1.0000000000000000e+00,  0.0000000000000000e+00,  2.0833884200000000e+05,  0.0000000000000000e+00, -1.0000000000000000e+00</GeoTransform>
  <Metadata>
    <MDI key="GEOTIFF_CHAR__GTModelTypeGeoKey">ModelTypeProjected</MDI>
    <MDI key="GEOTIFF_CHAR__GTRasterTypeGeoKey">RasterPixelIsArea</MDI>
    <MDI key="GEOTIFF_CHAR__ProjLinearUnitsGeoKey">Linear_Meter</MDI>
    <MDI key="GEOTIFF_NUM__1024__GTModelTypeGeoKey">1</MDI>
    <MDI key="GEOTIFF_NUM__1025__GTRasterTypeGeoKey">1</MDI>
    <MDI key="GEOTIFF_NUM__1026__GTCitationGeoKey">IMAGINE GeoTIFF Support
Copyright 1991 - 2001 by ERDAS, Inc. All Rights Reserved
@(#)$RCSfile: egtf.c $ $Revision: 1.11.2.3 $ $Date: 2004/11/24 09:12:56EST $
Projection Name = NAD_1983_StatePlane_Montana_FIPS_2500
Units = meters
GeoTIFF Units = meters</MDI>
    <MDI key="GEOTIFF_NUM__3076__ProjLinearUnitsGeoKey">9001</MDI>
    <MDI key="IMAGE__BITS_PER_SAMPLE">8</MDI>
    <MDI key="IMAGE__COLOR_SCHEME">3</MDI>
    <MDI key="IMAGE__COMPRESSION_BLOCK_SIZE">1024</MDI>
    <MDI key="IMAGE__COMPRESSION_GAMMA">2.000000</MDI>
    <MDI key="IMAGE__COMPRESSION_NLEV">7</MDI>
    <MDI key="IMAGE__COMPRESSION_VERSION">2,0,0</MDI>
    <MDI key="IMAGE__COMPRESSION_WEIGHT">2.000000</MDI>
    <MDI key="IMAGE__CREATION_DATE">Tue Mar 14 16:53:50 2006
</MDI>
    <MDI key="IMAGE__DATA_TYPE">0</MDI>
    <MDI key="IMAGE__DYNAMIC_RANGE_LEVEL">127.500000</MDI>
    <MDI key="IMAGE__DYNAMIC_RANGE_WINDOW">256.000000</MDI>
    <MDI key="IMAGE__HEIGHT">19676</MDI>
    <MDI key="IMAGE__INPUT_FILE_SIZE">918163231.000000</MDI>
    <MDI key="IMAGE__INPUT_FORMAT">GeoTIFF</MDI>
    <MDI key="IMAGE__INPUT_NAME">\\mslhlnimg001\ddata\Yellowstone\1976\Yellowstone4.tif</MDI>
    <MDI key="IMAGE__TARGET_COMPRESSION_RATIO">14.999999</MDI>
    <MDI key="IMAGE__WIDTH">46640</MDI>
    <MDI key="IMAGE__WKT">PROJCS["unnamed",GEOGCS["unnamed",DATUM["unknown",SPHEROID["unretrievable - using WGS84",6378137,298.257223563]],PRIMEM["Greenwich",0],UNIT[,0.0174532925199433]],UNIT["metre",1,AUTHORITY["EPSG","9001"]]]</MDI>
    <MDI key="IMAGE__XY_ORIGIN">693816.522000,208338.342000</MDI>
    <MDI key="IMAGE__X_RESOLUTION">1.000000</MDI>
    <MDI key="IMAGE__Y_RESOLUTION">1.000000</MDI>
    <MDI key="VERSION">MG2</MDI>
  </Metadata>
  <PAMRasterBand band="1">
    <GDALRasterAttributeTable tableType="thematic">
      <FieldDefn index="0">
        <Name>Histogram</Name>
        <Type>0</Type>
        <Usage>1</Usage>
      </FieldDefn>
      <Row index="0">
        <F>307466523</F>
      </Row>
      <Row index="1">
        <F>315682353</F>
      </Row>
      <Row index="2">
        <F>1663011</F>
      </Row>
      <Row index="3">
        <F>1817802</F>
      </Row>
      <Row index="4">
        <F>1468530</F>
      </Row>
      <Row index="5">
        <F>877149</F>
      </Row>
      <Row index="6">
        <F>305613</F>
      </Row>
      <Row index="7">
        <F>218295</F>
      </Row>
      <Row index="8">
        <F>178605</F>
      </Row>
      <Row index="9">
        <F>166698</F>
      </Row>
      <Row index="10">
        <F>138915</F>
      </Row>
      <Row index="11">
        <F>158760</F>
      </Row>
      <Row index="12">
        <F>142884</F>
      </Row>
      <Row index="13">
        <F>107163</F>
      </Row>
      <Row index="14">
        <F>138915</F>
      </Row>
      <Row index="15">
        <F>115101</F>
      </Row>
      <Row index="16">
        <F>115101</F>
      </Row>
      <Row index="17">
        <F>123039</F>
      </Row>
      <Row index="18">
        <F>79380</F>
      </Row>
      <Row index="19">
        <F>127008</F>
      </Row>
      <Row index="20">
        <F>123039</F>
      </Row>
      <Row index="21">
        <F>103194</F>
      </Row>
      <Row index="22">
        <F>99225</F>
      </Row>
      <Row index="23">
        <F>103194</F>
      </Row>
      <Row index="24">
        <F>115101</F>
      </Row>
      <Row index="25">
        <F>83349</F>
      </Row>
      <Row index="26">
        <F>59535</F>
      </Row>
      <Row index="27">
        <F>87318</F>
      </Row>
      <Row index="28">
        <F>107163</F>
      </Row>
      <Row index="29">
        <F>119070</F>
      </Row>
      <Row index="30">
        <F>119070</F>
      </Row>
      <Row index="31">
        <F>99225</F>
      </Row>
      <Row index="32">
        <F>99225</F>
      </Row>
      <Row index="33">
        <F>134946</F>
      </Row>
      <Row index="34">
        <F>134946</F>
      </Row>
      <Row index="35">
        <F>95256</F>
      </Row>
      <Row index="36">
        <F>115101</F>
      </Row>
      <Row index="37">
        <F>99225</F>
      </Row>
      <Row index="38">
        <F>87318</F>
      </Row>
      <Row index="39">
        <F>107163</F>
      </Row>
      <Row index="40">
        <F>91287</F>
      </Row>
      <Row index="41">
        <F>71442</F>
      </Row>
      <Row index="42">
        <F>127008</F>
      </Row>
      <Row index="43">
        <F>87318</F>
      </Row>
      <Row index="44">
        <F>130977</F>
      </Row>
      <Row index="45">
        <F>91287</F>
      </Row>
      <Row index="46">
        <F>91287</F>
      </Row>
      <Row index="47">
        <F>79380</F>
      </Row>
      <Row index="48">
        <F>95256</F>
      </Row>
      <Row index="49">
        <F>83349</F>
      </Row>
      <Row index="50">
        <F>59535</F>
      </Row>
      <Row index="51">
        <F>67473</F>
      </Row>
      <Row index="52">
        <F>79380</F>
      </Row>
      <Row index="53">
        <F>91287</F>
      </Row>
      <Row index="54">
        <F>67473</F>
      </Row>
      <Row index="55">
        <F>87318</F>
      </Row>
      <Row index="56">
        <F>111132</F>
      </Row>
      <Row index="57">
        <F>99225</F>
      </Row>
      <Row index="58">
        <F>91287</F>
      </Row>
      <Row index="59">
        <F>59535</F>
      </Row>
      <Row index="60">
        <F>91287</F>
      </Row>
      <Row index="61">
        <F>91287</F>
      </Row>
      <Row index="62">
        <F>55566</F>
      </Row>
      <Row index="63">
        <F>63504</F>
      </Row>
      <Row index="64">
        <F>59535</F>
      </Row>
      <Row index="65">
        <F>83349</F>
      </Row>
      <Row index="66">
        <F>87318</F>
      </Row>
      <Row index="67">
        <F>75411</F>
      </Row>
      <Row index="68">
        <F>71442</F>
      </Row>
      <Row index="69">
        <F>95256</F>
      </Row>
      <Row index="70">
        <F>115101</F>
      </Row>
      <Row index="71">
        <F>71442</F>
      </Row>
      <Row index="72">
        <F>87318</F>
      </Row>
      <Row index="73">
        <F>107163</F>
      </Row>
      <Row index="74">
        <F>115101</F>
      </Row>
      <Row index="75">
        <F>103194</F>
      </Row>
      <Row index="76">
        <F>87318</F>
      </Row>
      <Row index="77">
        <F>123039</F>
      </Row>
      <Row index="78">
        <F>79380</F>
      </Row>
      <Row index="79">
        <F>103194</F>
      </Row>
      <Row index="80">
        <F>146853</F>
      </Row>
      <Row index="81">
        <F>150822</F>
      </Row>
      <Row index="82">
        <F>154791</F>
      </Row>
      <Row index="83">
        <F>142884</F>
      </Row>
      <Row index="84">
        <F>146853</F>
      </Row>
      <Row index="85">
        <F>150822</F>
      </Row>
      <Row index="86">
        <F>178605</F>
      </Row>
      <Row index="87">
        <F>210357</F>
      </Row>
      <Row index="88">
        <F>194481</F>
      </Row>
      <Row index="89">
        <F>230202</F>
      </Row>
      <Row index="90">
        <F>277830</F>
      </Row>
      <Row index="91">
        <F>234171</F>
      </Row>
      <Row index="92">
        <F>254016</F>
      </Row>
      <Row index="93">
        <F>273861</F>
      </Row>
      <Row index="94">
        <F>250047</F>
      </Row>
      <Row index="95">
        <F>341334</F>
      </Row>
      <Row index="96">
        <F>313551</F>
      </Row>
      <Row index="97">
        <F>337365</F>
      </Row>
      <Row index="98">
        <F>361179</F>
      </Row>
      <Row index="99">
        <F>400869</F>
      </Row>
      <Row index="100">
        <F>504063</F>
      </Row>
      <Row index="101">
        <F>400869</F>
      </Row>
      <Row index="102">
        <F>369117</F>
      </Row>
      <Row index="103">
        <F>547722</F>
      </Row>
      <Row index="104">
        <F>452466</F>
      </Row>
      <Row index="105">
        <F>611226</F>
      </Row>
      <Row index="106">
        <F>563598</F>
      </Row>
      <Row index="107">
        <F>551691</F>
      </Row>
      <Row index="108">
        <F>666792</F>
      </Row>
      <Row index="109">
        <F>662823</F>
      </Row>
      <Row index="110">
        <F>758079</F>
      </Row>
      <Row index="111">
        <F>718389</F>
      </Row>
      <Row index="112">
        <F>738234</F>
      </Row>
      <Row index="113">
        <F>869211</F>
      </Row>
      <Row index="114">
        <F>928746</F>
      </Row>
      <Row index="115">
        <F>960498</F>
      </Row>
      <Row index="116">
        <F>1055754</F>
      </Row>
      <Row index="117">
        <F>1079568</F>
      </Row>
      <Row index="118">
        <F>1151010</F>
      </Row>
      <Row index="119">
        <F>1151010</F>
      </Row>
      <Row index="120">
        <F>1226421</F>
      </Row>
      <Row index="121">
        <F>1393119</F>
      </Row>
      <Row index="122">
        <F>1412964</F>
      </Row>
      <Row index="123">
        <F>1476468</F>
      </Row>
      <Row index="124">
        <F>1420902</F>
      </Row>
      <Row index="125">
        <F>1698732</F>
      </Row>
      <Row index="126">
        <F>1496313</F>
      </Row>
      <Row index="127">
        <F>1647135</F>
      </Row>
      <Row index="128">
        <F>1686825</F>
      </Row>
      <Row index="129">
        <F>1718577</F>
      </Row>
      <Row index="130">
        <F>1539972</F>
      </Row>
      <Row index="131">
        <F>1849554</F>
      </Row>
      <Row index="132">
        <F>1845585</F>
      </Row>
      <Row index="133">
        <F>1813833</F>
      </Row>
      <Row index="134">
        <F>1845585</F>
      </Row>
      <Row index="135">
        <F>2059911</F>
      </Row>
      <Row index="136">
        <F>1849554</F>
      </Row>
      <Row index="137">
        <F>1980531</F>
      </Row>
      <Row index="138">
        <F>1940841</F>
      </Row>
      <Row index="139">
        <F>2008314</F>
      </Row>
      <Row index="140">
        <F>2079756</F>
      </Row>
      <Row index="141">
        <F>2163105</F>
      </Row>
      <Row index="142">
        <F>2063880</F>
      </Row>
      <Row index="143">
        <F>2139291</F>
      </Row>
      <Row index="144">
        <F>2270268</F>
      </Row>
      <Row index="145">
        <F>2309958</F>
      </Row>
      <Row index="146">
        <F>2238516</F>
      </Row>
      <Row index="147">
        <F>2421090</F>
      </Row>
      <Row index="148">
        <F>2579850</F>
      </Row>
      <Row index="149">
        <F>2250423</F>
      </Row>
      <Row index="150">
        <F>2516346</F>
      </Row>
      <Row index="151">
        <F>2679075</F>
      </Row>
      <Row index="152">
        <F>2631447</F>
      </Row>
      <Row index="153">
        <F>2599695</F>
      </Row>
      <Row index="154">
        <F>2516346</F>
      </Row>
      <Row index="155">
        <F>2663199</F>
      </Row>
      <Row index="156">
        <F>2889432</F>
      </Row>
      <Row index="157">
        <F>2726703</F>
      </Row>
      <Row index="158">
        <F>2929122</F>
      </Row>
      <Row index="159">
        <F>2889432</F>
      </Row>
      <Row index="160">
        <F>3024378</F>
      </Row>
      <Row index="161">
        <F>3004533</F>
      </Row>
      <Row index="162">
        <F>2980719</F>
      </Row>
      <Row index="163">
        <F>3337929</F>
      </Row>
      <Row index="164">
        <F>3091851</F>
      </Row>
      <Row index="165">
        <F>3397464</F>
      </Row>
      <Row index="166">
        <F>3004533</F>
      </Row>
      <Row index="167">
        <F>3230766</F>
      </Row>
      <Row index="168">
        <F>3480813</F>
      </Row>
      <Row index="169">
        <F>3532410</F>
      </Row>
      <Row index="170">
        <F>3441123</F>
      </Row>
      <Row index="171">
        <F>3488751</F>
      </Row>
      <Row index="172">
        <F>3460968</F>
      </Row>
      <Row index="173">
        <F>3512565</F>
      </Row>
      <Row index="174">
        <F>3512565</F>
      </Row>
      <Row index="175">
        <F>3536379</F>
      </Row>
      <Row index="176">
        <F>3381588</F>
      </Row>
      <Row index="177">
        <F>3564162</F>
      </Row>
      <Row index="178">
        <F>3568131</F>
      </Row>
      <Row index="179">
        <F>3381588</F>
      </Row>
      <Row index="180">
        <F>3369681</F>
      </Row>
      <Row index="181">
        <F>3246642</F>
      </Row>
      <Row index="182">
        <F>3532410</F>
      </Row>
      <Row index="183">
        <F>3155355</F>
      </Row>
      <Row index="184">
        <F>3282363</F>
      </Row>
      <Row index="185">
        <F>3246642</F>
      </Row>
      <Row index="186">
        <F>2980719</F>
      </Row>
      <Row index="187">
        <F>3012471</F>
      </Row>
      <Row index="188">
        <F>3004533</F>
      </Row>
      <Row index="189">
        <F>2821959</F>
      </Row>
      <Row index="190">
        <F>2671137</F>
      </Row>
      <Row index="191">
        <F>2567943</F>
      </Row>
      <Row index="192">
        <F>2508408</F>
      </Row>
      <Row index="193">
        <F>2540160</F>
      </Row>
      <Row index="194">
        <F>2298051</F>
      </Row>
      <Row index="195">
        <F>2206764</F>
      </Row>
      <Row index="196">
        <F>2262330</F>
      </Row>
      <Row index="197">
        <F>1996407</F>
      </Row>
      <Row index="198">
        <F>1996407</F>
      </Row>
      <Row index="199">
        <F>1857492</F>
      </Row>
      <Row index="200">
        <F>1722546</F>
      </Row>
      <Row index="201">
        <F>1591569</F>
      </Row>
      <Row index="202">
        <F>1698732</F>
      </Row>
      <Row index="203">
        <F>1420902</F>
      </Row>
      <Row index="204">
        <F>1627290</F>
      </Row>
      <Row index="205">
        <F>1440747</F>
      </Row>
      <Row index="206">
        <F>1309770</F>
      </Row>
      <Row index="207">
        <F>1305801</F>
      </Row>
      <Row index="208">
        <F>1238328</F>
      </Row>
      <Row index="209">
        <F>940653</F>
      </Row>
      <Row index="210">
        <F>1043847</F>
      </Row>
      <Row index="211">
        <F>1083537</F>
      </Row>
      <Row index="212">
        <F>948591</F>
      </Row>
      <Row index="213">
        <F>829521</F>
      </Row>
      <Row index="214">
        <F>813645</F>
      </Row>
      <Row index="215">
        <F>781893</F>
      </Row>
      <Row index="216">
        <F>781893</F>
      </Row>
      <Row index="217">
        <F>631071</F>
      </Row>
      <Row index="218">
        <F>706482</F>
      </Row>
      <Row index="219">
        <F>595350</F>
      </Row>
      <Row index="220">
        <F>595350</F>
      </Row>
      <Row index="221">
        <F>527877</F>
      </Row>
      <Row index="222">
        <F>460404</F>
      </Row>
      <Row index="223">
        <F>456435</F>
      </Row>
      <Row index="224">
        <F>424683</F>
      </Row>
      <Row index="225">
        <F>392931</F>
      </Row>
      <Row index="226">
        <F>448497</F>
      </Row>
      <Row index="227">
        <F>357210</F>
      </Row>
      <Row index="228">
        <F>384993</F>
      </Row>
      <Row index="229">
        <F>305613</F>
      </Row>
      <Row index="230">
        <F>341334</F>
      </Row>
      <Row index="231">
        <F>250047</F>
      </Row>
      <Row index="232">
        <F>265923</F>
      </Row>
      <Row index="233">
        <F>198450</F>
      </Row>
      <Row index="234">
        <F>293706</F>
      </Row>
      <Row index="235">
        <F>174636</F>
      </Row>
      <Row index="236">
        <F>210357</F>
      </Row>
      <Row index="237">
        <F>182574</F>
      </Row>
      <Row index="238">
        <F>178605</F>
      </Row>
      <Row index="239">
        <F>146853</F>
      </Row>
      <Row index="240">
        <F>127008</F>
      </Row>
      <Row index="241">
        <F>119070</F>
      </Row>
      <Row index="242">
        <F>107163</F>
      </Row>
      <Row index="243">
        <F>87318</F>
      </Row>
      <Row index="244">
        <F>87318</F>
      </Row>
      <Row index="245">
        <F>79380</F>
      </Row>
      <Row index="246">
        <F>67473</F>
      </Row>
      <Row index="247">
        <F>31752</F>
      </Row>
      <Row index="248">
        <F>43659</F>
      </Row>
      <Row index="249">
        <F>23814</F>
      </Row>
      <Row index="250">
        <F>39690</F>
      </Row>
      <Row index="251">
        <F>19845</F>
      </Row>
      <Row index="252">
        <F>15876</F>
      </Row>
      <Row index="253">
        <F>11907</F>
      </Row>
      <Row index="254">
        <F>7938</F>
      </Row>
      <Row index="255">
        <F>27783</F>
      </Row>
    </GDALRasterAttributeTable>
    <Metadata>
      <MDI key="LAYER_TYPE">athematic</MDI>
      <MDI key="STATISTICS_APPROXIMATE">YES</MDI>
      <MDI key="STATISTICS_HISTOBINVALUES">307466523|315682353|1663011|1817802|1468530|877149|305613|218295|178605|166698|138915|158760|142884|107163|138915|115101|115101|123039|79380|127008|123039|103194|99225|103194|115101|83349|59535|87318|107163|119070|119070|99225|99225|134946|134946|95256|115101|99225|87318|107163|91287|71442|127008|87318|130977|91287|91287|79380|95256|83349|59535|67473|79380|91287|67473|87318|111132|99225|91287|59535|91287|91287|55566|63504|59535|83349|87318|75411|71442|95256|115101|71442|87318|107163|115101|103194|87318|123039|79380|103194|146853|150822|154791|142884|146853|150822|178605|210357|194481|230202|277830|234171|254016|273861|250047|341334|313551|337365|361179|400869|504063|400869|369117|547722|452466|611226|563598|551691|666792|662823|758079|718389|738234|869211|928746|960498|1055754|1079568|1151010|1151010|1226421|1393119|1412964|1476468|1420902|1698732|1496313|1647135|1686825|1718577|1539972|1849554|1845585|1813833|1845585|2059911|1849554|1980531|1940841|2008314|2079756|2163105|2063880|2139291|2270268|2309958|2238516|2421090|2579850|2250423|2516346|2679075|2631447|2599695|2516346|2663199|2889432|2726703|2929122|2889432|3024378|3004533|2980719|3337929|3091851|3397464|3004533|3230766|3480813|3532410|3441123|3488751|3460968|3512565|3512565|3536379|3381588|3564162|3568131|3381588|3369681|3246642|3532410|3155355|3282363|3246642|2980719|3012471|3004533|2821959|2671137|2567943|2508408|2540160|2298051|2206764|2262330|1996407|1996407|1857492|1722546|1591569|1698732|1420902|1627290|1440747|1309770|1305801|1238328|940653|1043847|1083537|948591|829521|813645|781893|781893|631071|706482|595350|595350|527877|460404|456435|424683|392931|448497|357210|384993|305613|341334|250047|265923|198450|293706|174636|210357|182574|178605|146853|127008|119070|107163|87318|87318|79380|67473|31752|43659|23814|39690|19845|15876|11907|7938|27783|</MDI>
      <MDI key="STATISTICS_MAXIMUM">249</MDI>
      <MDI key="STATISTICS_MEAN">47.243141789717</MDI>
      <MDI key="STATISTICS_MINIMUM">0</MDI>
      <MDI key="STATISTICS_STDDEV">75.164137297587</MDI>
      <MDI key="STATISTICS_VALID_PERCENT">100</MDI>
    </Metadata>
  </PAMRasterBand>
</PAMDataset>
