<PAMDataset>
  <SRS dataAxisToSRSAxisMapping="2,1,3">PROJCS["NAD_1983_StatePlane_Montana_FIPS_2500",GEOGCS["GCS_North_American_1983",DATUM["North_American_Datum_1983",SPHEROID["GRS_1980",6378137,298.257222101]],PRIMEM["Greenwich",0],UNIT["Degree",0.0174532925199432955],AUTHORITY["EPSG","4269"]],PROJECTION["Lambert_Conformal_Conic_2SP"],PARAMETER["False_Easting",600000],PARAMETER["False_Northing",0],PARAMETER["Central_Meridian",-109.5],PARAMETER["Standard_Parallel_1",45],PARAMETER["Standard_Parallel_2",49],PARAMETER["Latitude_Of_Origin",44.25],UNIT["Meter",1]]</SRS>
  <GeoTransform>  7.3315700000000000e+05,  1.0000000000000000e+00,  0.0000000000000000e+00,  2.1765900000000000e+05,  0.0000000000000000e+00, -1.0000000000000000e+00</GeoTransform>
  <Metadata>
    <MDI key="GEOTIFF_CHAR__GeogAngularUnitsGeoKey">Angular_Degree</MDI>
    <MDI key="GEOTIFF_CHAR__GeogLinearUnitsGeoKey">Linear_Meter</MDI>
    <MDI key="GEOTIFF_CHAR__GTModelTypeGeoKey">ModelTypeProjected</MDI>
    <MDI key="GEOTIFF_CHAR__GTRasterTypeGeoKey">RasterPixelIsArea</MDI>
    <MDI key="GEOTIFF_CHAR__ProjectedCSTypeGeoKey">PCS_NAD83_Montana</MDI>
    <MDI key="GEOTIFF_CHAR__ProjLinearUnitsGeoKey">Linear_Meter</MDI>
    <MDI key="GEOTIFF_NUM__1024__GTModelTypeGeoKey">1</MDI>
    <MDI key="GEOTIFF_NUM__1025__GTRasterTypeGeoKey">1</MDI>
    <MDI key="GEOTIFF_NUM__1026__GTCitationGeoKey">IMAGINE GeoTIFF Support
Copyright 1991 - 2001 by ERDAS, Inc. All Rights Reserved
@(#)$RCSfile: egtf.c $ $Revision: 1.11.2.3 $ $Date: 2004/11/24 09:12:56EST $
Projection Name = NAD_1983_StatePlane_Montana_FIPS_2500
Units = meters
GeoTIFF Units = meters</MDI>
    <MDI key="GEOTIFF_NUM__2052__GeogLinearUnitsGeoKey">9001</MDI>
    <MDI key="GEOTIFF_NUM__2054__GeogAngularUnitsGeoKey">9102</MDI>
    <MDI key="GEOTIFF_NUM__3072__ProjectedCSTypeGeoKey">32100</MDI>
    <MDI key="GEOTIFF_NUM__3076__ProjLinearUnitsGeoKey">9001</MDI>
    <MDI key="IMAGE__BITS_PER_SAMPLE">8</MDI>
    <MDI key="IMAGE__COLOR_SCHEME">3</MDI>
    <MDI key="IMAGE__COMPRESSION_BLOCK_SIZE">768</MDI>
    <MDI key="IMAGE__COMPRESSION_GAMMA">2.000000</MDI>
    <MDI key="IMAGE__COMPRESSION_NLEV">7</MDI>
    <MDI key="IMAGE__COMPRESSION_VERSION">2,0,0</MDI>
    <MDI key="IMAGE__COMPRESSION_WEIGHT">2.000000</MDI>
    <MDI key="IMAGE__CREATION_DATE">Tue Mar 14 17:04:07 2006
</MDI>
    <MDI key="IMAGE__DATA_TYPE">0</MDI>
    <MDI key="IMAGE__DYNAMIC_RANGE_LEVEL">127.500000</MDI>
    <MDI key="IMAGE__DYNAMIC_RANGE_WINDOW">256.000000</MDI>
    <MDI key="IMAGE__HEIGHT">16676</MDI>
    <MDI key="IMAGE__INPUT_FILE_SIZE">423337925.000000</MDI>
    <MDI key="IMAGE__INPUT_FORMAT">GeoTIFF</MDI>
    <MDI key="IMAGE__INPUT_NAME">\\mslhlnimg001\ddata\Yellowstone\1976\Yellowstone5.tif</MDI>
    <MDI key="IMAGE__TARGET_COMPRESSION_RATIO">14.999999</MDI>
    <MDI key="IMAGE__WIDTH">25370</MDI>
    <MDI key="IMAGE__WKT">PROJCS["NAD83 / Montana",GEOGCS["NAD83",DATUM["North_American_Datum_1983",SPHEROID["GRS 1980",6378137,298.2572221010002,AUTHORITY["EPSG","7019"]],AUTHORITY["EPSG","6269"]],PRIMEM["Greenwich",0],UNIT["degree",0.0174532925199433],AUTHORITY["EPSG","4269"]],PROJECTION["Lambert_Conformal_Conic_2SP"],PARAMETER["standard_parallel_1",49],PARAMETER["standard_parallel_2",45],PARAMETER["latitude_of_origin",44.25],PARAMETER["central_meridian",-109.5],PARAMETER["false_easting",600000],PARAMETER["false_northing",0],UNIT["metre",1,AUTHORITY["EPSG","9001"]],AUTHORITY["EPSG","32100"]]</MDI>
    <MDI key="IMAGE__XY_ORIGIN">733157.500000,217658.500000</MDI>
    <MDI key="IMAGE__X_RESOLUTION">1.000000</MDI>
    <MDI key="IMAGE__Y_RESOLUTION">1.000000</MDI>
    <MDI key="VERSION">MG2</MDI>
  </Metadata>
  <PAMRasterBand band="1">
    <GDALRasterAttributeTable tableType="thematic">
      <FieldDefn index="0">
        <Name>Histogram</Name>
        <Type>0</Type>
        <Usage>1</Usage>
      </FieldDefn>
      <Row index="0">
        <F>131954910</F>
      </Row>
      <Row index="1">
        <F>132370062</F>
      </Row>
      <Row index="2">
        <F>506447</F>
      </Row>
      <Row index="3">
        <F>434372</F>
      </Row>
      <Row index="4">
        <F>341155</F>
      </Row>
      <Row index="5">
        <F>318091</F>
      </Row>
      <Row index="6">
        <F>155682</F>
      </Row>
      <Row index="7">
        <F>74958</F>
      </Row>
      <Row index="8">
        <F>53816</F>
      </Row>
      <Row index="9">
        <F>48050</F>
      </Row>
      <Row index="10">
        <F>37479</F>
      </Row>
      <Row index="11">
        <F>46128</F>
      </Row>
      <Row index="12">
        <F>47089</F>
      </Row>
      <Row index="13">
        <F>47089</F>
      </Row>
      <Row index="14">
        <F>30752</F>
      </Row>
      <Row index="15">
        <F>42284</F>
      </Row>
      <Row index="16">
        <F>44206</F>
      </Row>
      <Row index="17">
        <F>46128</F>
      </Row>
      <Row index="18">
        <F>36518</F>
      </Row>
      <Row index="19">
        <F>44206</F>
      </Row>
      <Row index="20">
        <F>41323</F>
      </Row>
      <Row index="21">
        <F>37479</F>
      </Row>
      <Row index="22">
        <F>45167</F>
      </Row>
      <Row index="23">
        <F>46128</F>
      </Row>
      <Row index="24">
        <F>35557</F>
      </Row>
      <Row index="25">
        <F>38440</F>
      </Row>
      <Row index="26">
        <F>38440</F>
      </Row>
      <Row index="27">
        <F>39401</F>
      </Row>
      <Row index="28">
        <F>46128</F>
      </Row>
      <Row index="29">
        <F>44206</F>
      </Row>
      <Row index="30">
        <F>51894</F>
      </Row>
      <Row index="31">
        <F>52855</F>
      </Row>
      <Row index="32">
        <F>61504</F>
      </Row>
      <Row index="33">
        <F>67270</F>
      </Row>
      <Row index="34">
        <F>71114</F>
      </Row>
      <Row index="35">
        <F>60543</F>
      </Row>
      <Row index="36">
        <F>73997</F>
      </Row>
      <Row index="37">
        <F>75919</F>
      </Row>
      <Row index="38">
        <F>58621</F>
      </Row>
      <Row index="39">
        <F>63426</F>
      </Row>
      <Row index="40">
        <F>80724</F>
      </Row>
      <Row index="41">
        <F>74958</F>
      </Row>
      <Row index="42">
        <F>81685</F>
      </Row>
      <Row index="43">
        <F>78802</F>
      </Row>
      <Row index="44">
        <F>90334</F>
      </Row>
      <Row index="45">
        <F>83607</F>
      </Row>
      <Row index="46">
        <F>89373</F>
      </Row>
      <Row index="47">
        <F>105710</F>
      </Row>
      <Row index="48">
        <F>78802</F>
      </Row>
      <Row index="49">
        <F>91295</F>
      </Row>
      <Row index="50">
        <F>106671</F>
      </Row>
      <Row index="51">
        <F>94178</F>
      </Row>
      <Row index="52">
        <F>110515</F>
      </Row>
      <Row index="53">
        <F>122047</F>
      </Row>
      <Row index="54">
        <F>145111</F>
      </Row>
      <Row index="55">
        <F>108593</F>
      </Row>
      <Row index="56">
        <F>118203</F>
      </Row>
      <Row index="57">
        <F>123969</F>
      </Row>
      <Row index="58">
        <F>162409</F>
      </Row>
      <Row index="59">
        <F>142228</F>
      </Row>
      <Row index="60">
        <F>153760</F>
      </Row>
      <Row index="61">
        <F>174902</F>
      </Row>
      <Row index="62">
        <F>168175</F>
      </Row>
      <Row index="63">
        <F>150877</F>
      </Row>
      <Row index="64">
        <F>191239</F>
      </Row>
      <Row index="65">
        <F>204693</F>
      </Row>
      <Row index="66">
        <F>212381</F>
      </Row>
      <Row index="67">
        <F>218147</F>
      </Row>
      <Row index="68">
        <F>214303</F>
      </Row>
      <Row index="69">
        <F>203732</F>
      </Row>
      <Row index="70">
        <F>227757</F>
      </Row>
      <Row index="71">
        <F>217186</F>
      </Row>
      <Row index="72">
        <F>224874</F>
      </Row>
      <Row index="73">
        <F>238328</F>
      </Row>
      <Row index="74">
        <F>252743</F>
      </Row>
      <Row index="75">
        <F>271002</F>
      </Row>
      <Row index="76">
        <F>242172</F>
      </Row>
      <Row index="77">
        <F>257548</F>
      </Row>
      <Row index="78">
        <F>259470</F>
      </Row>
      <Row index="79">
        <F>271963</F>
      </Row>
      <Row index="80">
        <F>270041</F>
      </Row>
      <Row index="81">
        <F>295988</F>
      </Row>
      <Row index="82">
        <F>295027</F>
      </Row>
      <Row index="83">
        <F>303676</F>
      </Row>
      <Row index="84">
        <F>297910</F>
      </Row>
      <Row index="85">
        <F>300793</F>
      </Row>
      <Row index="86">
        <F>335389</F>
      </Row>
      <Row index="87">
        <F>374790</F>
      </Row>
      <Row index="88">
        <F>323857</F>
      </Row>
      <Row index="89">
        <F>325779</F>
      </Row>
      <Row index="90">
        <F>355570</F>
      </Row>
      <Row index="91">
        <F>356531</F>
      </Row>
      <Row index="92">
        <F>387283</F>
      </Row>
      <Row index="93">
        <F>360375</F>
      </Row>
      <Row index="94">
        <F>391127</F>
      </Row>
      <Row index="95">
        <F>358453</F>
      </Row>
      <Row index="96">
        <F>408425</F>
      </Row>
      <Row index="97">
        <F>348843</F>
      </Row>
      <Row index="98">
        <F>376712</F>
      </Row>
      <Row index="99">
        <F>364219</F>
      </Row>
      <Row index="100">
        <F>368063</F>
      </Row>
      <Row index="101">
        <F>355570</F>
      </Row>
      <Row index="102">
        <F>414191</F>
      </Row>
      <Row index="103">
        <F>414191</F>
      </Row>
      <Row index="104">
        <F>399776</F>
      </Row>
      <Row index="105">
        <F>451670</F>
      </Row>
      <Row index="106">
        <F>385361</F>
      </Row>
      <Row index="107">
        <F>414191</F>
      </Row>
      <Row index="108">
        <F>411308</F>
      </Row>
      <Row index="109">
        <F>416113</F>
      </Row>
      <Row index="110">
        <F>418996</F>
      </Row>
      <Row index="111">
        <F>450709</F>
      </Row>
      <Row index="112">
        <F>434372</F>
      </Row>
      <Row index="113">
        <F>484344</F>
      </Row>
      <Row index="114">
        <F>469929</F>
      </Row>
      <Row index="115">
        <F>488188</F>
      </Row>
      <Row index="116">
        <F>453592</F>
      </Row>
      <Row index="117">
        <F>503564</F>
      </Row>
      <Row index="118">
        <F>481461</F>
      </Row>
      <Row index="119">
        <F>513174</F>
      </Row>
      <Row index="120">
        <F>470890</F>
      </Row>
      <Row index="121">
        <F>544887</F>
      </Row>
      <Row index="122">
        <F>544887</F>
      </Row>
      <Row index="123">
        <F>517018</F>
      </Row>
      <Row index="124">
        <F>513174</F>
      </Row>
      <Row index="125">
        <F>529511</F>
      </Row>
      <Row index="126">
        <F>551614</F>
      </Row>
      <Row index="127">
        <F>542965</F>
      </Row>
      <Row index="128">
        <F>589093</F>
      </Row>
      <Row index="129">
        <F>545848</F>
      </Row>
      <Row index="130">
        <F>623689</F>
      </Row>
      <Row index="131">
        <F>579483</F>
      </Row>
      <Row index="132">
        <F>637143</F>
      </Row>
      <Row index="133">
        <F>632338</F>
      </Row>
      <Row index="134">
        <F>633299</F>
      </Row>
      <Row index="135">
        <F>616962</F>
      </Row>
      <Row index="136">
        <F>601586</F>
      </Row>
      <Row index="137">
        <F>670778</F>
      </Row>
      <Row index="138">
        <F>656363</F>
      </Row>
      <Row index="139">
        <F>642909</F>
      </Row>
      <Row index="140">
        <F>641948</F>
      </Row>
      <Row index="141">
        <F>679427</F>
      </Row>
      <Row index="142">
        <F>675583</F>
      </Row>
      <Row index="143">
        <F>690959</F>
      </Row>
      <Row index="144">
        <F>655402</F>
      </Row>
      <Row index="145">
        <F>731321</F>
      </Row>
      <Row index="146">
        <F>667895</F>
      </Row>
      <Row index="147">
        <F>769761</F>
      </Row>
      <Row index="148">
        <F>673661</F>
      </Row>
      <Row index="149">
        <F>834148</F>
      </Row>
      <Row index="150">
        <F>668856</F>
      </Row>
      <Row index="151">
        <F>789942</F>
      </Row>
      <Row index="152">
        <F>746697</F>
      </Row>
      <Row index="153">
        <F>791864</F>
      </Row>
      <Row index="154">
        <F>762073</F>
      </Row>
      <Row index="155">
        <F>783215</F>
      </Row>
      <Row index="156">
        <F>824538</F>
      </Row>
      <Row index="157">
        <F>818772</F>
      </Row>
      <Row index="158">
        <F>810123</F>
      </Row>
      <Row index="159">
        <F>806279</F>
      </Row>
      <Row index="160">
        <F>931209</F>
      </Row>
      <Row index="161">
        <F>808201</F>
      </Row>
      <Row index="162">
        <F>887964</F>
      </Row>
      <Row index="163">
        <F>834148</F>
      </Row>
      <Row index="164">
        <F>956195</F>
      </Row>
      <Row index="165">
        <F>908145</F>
      </Row>
      <Row index="166">
        <F>997518</F>
      </Row>
      <Row index="167">
        <F>959078</F>
      </Row>
      <Row index="168">
        <F>943702</F>
      </Row>
      <Row index="169">
        <F>915833</F>
      </Row>
      <Row index="170">
        <F>974454</F>
      </Row>
      <Row index="171">
        <F>924482</F>
      </Row>
      <Row index="172">
        <F>1047490</F>
      </Row>
      <Row index="173">
        <F>993674</F>
      </Row>
      <Row index="174">
        <F>1023465</F>
      </Row>
      <Row index="175">
        <F>1000401</F>
      </Row>
      <Row index="176">
        <F>1031153</F>
      </Row>
      <Row index="177">
        <F>984064</F>
      </Row>
      <Row index="178">
        <F>1042685</F>
      </Row>
      <Row index="179">
        <F>1101306</F>
      </Row>
      <Row index="180">
        <F>1018660</F>
      </Row>
      <Row index="181">
        <F>1044607</F>
      </Row>
      <Row index="182">
        <F>1059983</F>
      </Row>
      <Row index="183">
        <F>1101306</F>
      </Row>
      <Row index="184">
        <F>1048451</F>
      </Row>
      <Row index="185">
        <F>1070554</F>
      </Row>
      <Row index="186">
        <F>1031153</F>
      </Row>
      <Row index="187">
        <F>1112838</F>
      </Row>
      <Row index="188">
        <F>1037880</F>
      </Row>
      <Row index="189">
        <F>1085930</F>
      </Row>
      <Row index="190">
        <F>1100345</F>
      </Row>
      <Row index="191">
        <F>1081125</F>
      </Row>
      <Row index="192">
        <F>1065749</F>
      </Row>
      <Row index="193">
        <F>1135902</F>
      </Row>
      <Row index="194">
        <F>1068632</F>
      </Row>
      <Row index="195">
        <F>1062866</F>
      </Row>
      <Row index="196">
        <F>1123409</F>
      </Row>
      <Row index="197">
        <F>1076320</F>
      </Row>
      <Row index="198">
        <F>1084008</F>
      </Row>
      <Row index="199">
        <F>1030192</F>
      </Row>
      <Row index="200">
        <F>1084969</F>
      </Row>
      <Row index="201">
        <F>983103</F>
      </Row>
      <Row index="202">
        <F>1104189</F>
      </Row>
      <Row index="203">
        <F>1025387</F>
      </Row>
      <Row index="204">
        <F>1081125</F>
      </Row>
      <Row index="205">
        <F>950429</F>
      </Row>
      <Row index="206">
        <F>963883</F>
      </Row>
      <Row index="207">
        <F>972532</F>
      </Row>
      <Row index="208">
        <F>1035958</F>
      </Row>
      <Row index="209">
        <F>959078</F>
      </Row>
      <Row index="210">
        <F>1018660</F>
      </Row>
      <Row index="211">
        <F>936975</F>
      </Row>
      <Row index="212">
        <F>982142</F>
      </Row>
      <Row index="213">
        <F>965805</F>
      </Row>
      <Row index="214">
        <F>887003</F>
      </Row>
      <Row index="215">
        <F>942741</F>
      </Row>
      <Row index="216">
        <F>829343</F>
      </Row>
      <Row index="217">
        <F>904301</F>
      </Row>
      <Row index="218">
        <F>871627</F>
      </Row>
      <Row index="219">
        <F>841836</F>
      </Row>
      <Row index="220">
        <F>770722</F>
      </Row>
      <Row index="221">
        <F>830304</F>
      </Row>
      <Row index="222">
        <F>728438</F>
      </Row>
      <Row index="223">
        <F>783215</F>
      </Row>
      <Row index="224">
        <F>736126</F>
      </Row>
      <Row index="225">
        <F>804357</F>
      </Row>
      <Row index="226">
        <F>674622</F>
      </Row>
      <Row index="227">
        <F>788020</F>
      </Row>
      <Row index="228">
        <F>704413</F>
      </Row>
      <Row index="229">
        <F>647714</F>
      </Row>
      <Row index="230">
        <F>673661</F>
      </Row>
      <Row index="231">
        <F>654441</F>
      </Row>
      <Row index="232">
        <F>685193</F>
      </Row>
      <Row index="233">
        <F>589093</F>
      </Row>
      <Row index="234">
        <F>634260</F>
      </Row>
      <Row index="235">
        <F>573717</F>
      </Row>
      <Row index="236">
        <F>616962</F>
      </Row>
      <Row index="237">
        <F>555458</F>
      </Row>
      <Row index="238">
        <F>564107</F>
      </Row>
      <Row index="239">
        <F>551614</F>
      </Row>
      <Row index="240">
        <F>533355</F>
      </Row>
      <Row index="241">
        <F>511252</F>
      </Row>
      <Row index="242">
        <F>469929</F>
      </Row>
      <Row index="243">
        <F>467046</F>
      </Row>
      <Row index="244">
        <F>473773</F>
      </Row>
      <Row index="245">
        <F>440138</F>
      </Row>
      <Row index="246">
        <F>476656</F>
      </Row>
      <Row index="247">
        <F>424762</F>
      </Row>
      <Row index="248">
        <F>418035</F>
      </Row>
      <Row index="249">
        <F>463202</F>
      </Row>
      <Row index="250">
        <F>449748</F>
      </Row>
      <Row index="251">
        <F>430528</F>
      </Row>
      <Row index="252">
        <F>418996</F>
      </Row>
      <Row index="253">
        <F>434372</F>
      </Row>
      <Row index="254">
        <F>393049</F>
      </Row>
      <Row index="255">
        <F>1184913</F>
      </Row>
    </GDALRasterAttributeTable>
    <Metadata>
      <MDI key="LAYER_TYPE">athematic</MDI>
      <MDI key="STATISTICS_APPROXIMATE">YES</MDI>
      <MDI key="STATISTICS_HISTOBINVALUES">131954910|132370062|506447|434372|341155|318091|155682|74958|53816|48050|37479|46128|47089|47089|30752|42284|44206|46128|36518|44206|41323|37479|45167|46128|35557|38440|38440|39401|46128|44206|51894|52855|61504|67270|71114|60543|73997|75919|58621|63426|80724|74958|81685|78802|90334|83607|89373|105710|78802|91295|106671|94178|110515|122047|145111|108593|118203|123969|162409|142228|153760|174902|168175|150877|191239|204693|212381|218147|214303|203732|227757|217186|224874|238328|252743|271002|242172|257548|259470|271963|270041|295988|295027|303676|297910|300793|335389|374790|323857|325779|355570|356531|387283|360375|391127|358453|408425|348843|376712|364219|368063|355570|414191|414191|399776|451670|385361|414191|411308|416113|418996|450709|434372|484344|469929|488188|453592|503564|481461|513174|470890|544887|544887|517018|513174|529511|551614|542965|589093|545848|623689|579483|637143|632338|633299|616962|601586|670778|656363|642909|641948|679427|675583|690959|655402|731321|667895|769761|673661|834148|668856|789942|746697|791864|762073|783215|824538|818772|810123|806279|931209|808201|887964|834148|956195|908145|997518|959078|943702|915833|974454|924482|1047490|993674|1023465|1000401|1031153|984064|1042685|1101306|1018660|1044607|1059983|1101306|1048451|1070554|1031153|1112838|1037880|1085930|1100345|1081125|1065749|1135902|1068632|1062866|1123409|1076320|1084008|1030192|1084969|983103|1104189|1025387|1081125|950429|963883|972532|1035958|959078|1018660|936975|982142|965805|887003|942741|829343|904301|871627|841836|770722|830304|728438|783215|736126|804357|674622|788020|704413|647714|673661|654441|685193|589093|634260|573717|616962|555458|564107|551614|533355|511252|469929|467046|473773|440138|476656|424762|418035|463202|449748|430528|418996|434372|393049|1184913|</MDI>
      <MDI key="STATISTICS_MAXIMUM">255</MDI>
      <MDI key="STATISTICS_MEAN">55.331044535655</MDI>
      <MDI key="STATISTICS_MINIMUM">0</MDI>
      <MDI key="STATISTICS_STDDEV">81.961474284765</MDI>
      <MDI key="STATISTICS_VALID_PERCENT">100</MDI>
    </Metadata>
  </PAMRasterBand>
</PAMDataset>
